BEGIN:VCALENDAR
VERSION:2.0
X-WR-TIMEZONE:Europe/Paris
PRODID:-//Audencia//NONSGML v1.0//EN
CALSCALE:GREGORIAN
BEGIN:VEVENT
SUMMARY:CCI France Chine Welcome Back Cocktail @ Guangzhou
DTSTART:20220913T123000
DTEND:20220913T160000
UID:1355
DTSTAMP:20260425T210124
LOCATION:Azul by FUEL, 4th Floor (Elevator beside 7-11), Party Pier Taxi Area B, Haizhu District, Guangzhou, China
DESCRIPTION:Our partner, CCI FRANCE CHINE, is delighted to invite you to its traditional Welcome Back Cocktail at Azul by FUEL on Tuesday, 13 September.\n \nIn the presence of\n\nMr. Sylvain Fourrière, Consul General of France in Guangzhou \n\n&\n\nCCI FRANCE CHINE's Board Members\n\n&\n\nCaroline Penard, General Manager of CCI FRANCE CHINE\n \n\nEvery year, CCI FRANCE CHINE organizes its welcome back cocktail to gather the Sino-French business community in a friendly and casual environment after the summer break. Attendees from an array of industries are expected to take part in this dynamic gathering. This presents an opportunity for you to both rekindle old connections and gain insight into the activities of your fellow business partners.\n\n\nWhat’s planned for the Welcome Back Cocktail? The lovely evening begins with a Welcome Glass, followed by a delightful Buffet, and includes free-flow wine service. Let's get together and embrace beautiful autumn with some festive drinks.\n\nDate: Tuesday, 13 September 2022\n\nTime: 6:30 PM - 10:00 PM\n\nVenue: Azul by FUEL, 4th Floor (Elevator beside 7-11), Party Pier Taxi Area B, Haizhu District, Guangzhou / 广州市海珠区阅江西路118号珠江琶醍啤酒文化创意艺术区B区4楼（7-11旁边电梯）\n\nReminders: In order to respect the safety regulations, this event is limited to a number of places. Guests are kindly requested to follow the epidemic prevention and control measures of Guangzhou. 
BEGIN:VALARM
ACTION:DISPLAY
TRIGGER:-PT60M
DESCRIPTION:CCI France Chine Welcome Back Cocktail @ Guangzhou
END:VALARM
END:VEVENT
END:VCALENDAR