BEGIN:VCALENDAR
VERSION:2.0
X-WR-TIMEZONE:Europe/Paris
PRODID:-//Audencia//NONSGML v1.0//EN
CALSCALE:GREGORIAN
BEGIN:VEVENT
SUMMARY:CCI France Chine Welcome Back Cocktail @ Shenzhen
DTSTART:20220922T123000
DTEND:20220922T160000
UID:1354
DTSTAMP:20260425T210432
LOCATION:Residence G, 4078 Dongbin Road, Nanshan District, Shenzhen, Guangdong, China
DESCRIPTION:Our partner, CCI FRANCE CHINE, is delighted to invite you to its traditional Welcome Back Cocktail at Residence G on Thursday, 22 September.\n \nEvery year, CCI FRANCE CHINE organizes its welcome back cocktail to gather the Sino-French business community in a friendly and casual environment after the summer break. Attendees from an array of industries are expected to take part in this dynamic gathering. This presents an opportunity for you to both rekindle old connections and gain insight into the activities of your fellow business partners.\n\n\nWhat’s planned for the Welcome Back Cocktail? The lovely evening begins with a Welcome Glass, followed by a delightful Buffet, and includes free-flow wine service. Let's get together and embrace beautiful autumn with some festive drinks.\n\nDate: Thursday, 22 September 2022\n\nTime: 6:30 PM - 10:00 PM\n\nVenue: Residence G, 4078 Dongbin Road, Nanshan District, Shenzhen, Guangdong, China / 广东省深圳市南山区东滨路4078号永新汇深圳G公寓\n\nReminders: In order to respect the safety regulations, this event is limited to a number of places. Guests are kindly requested to follow the epidemic prevention and control measures of Shenzhen. 
BEGIN:VALARM
ACTION:DISPLAY
TRIGGER:-PT60M
DESCRIPTION:CCI France Chine Welcome Back Cocktail @ Shenzhen
END:VALARM
END:VEVENT
END:VCALENDAR