BEGIN:VCALENDAR
VERSION:2.0
X-WR-TIMEZONE:Europe/Paris
PRODID:-//Audencia//NONSGML v1.0//EN
CALSCALE:GREGORIAN
BEGIN:VEVENT
SUMMARY:CCI France Chine Welcome Back Cocktail @ Shanghai
DTSTART:20220914T123000
DTEND:20220914T160000
UID:1353
DTSTAMP:20260425T210051
LOCATION:CCI FRANCE CHINE Shanghai Office, 2/F, Mayfair Tower, 83 Fu Min Road, Shanghai, China
DESCRIPTION:Our partner, CCI FRANCE CHINE, is pleased to invite you to its traditional Welcome Back Cocktail\n \n\nEvery year, CCI FRANCE CHINE organizes its welcome back cocktail to gather the Sino-French business community in a friendly and casual environment after the summer break. This year, the cocktail will be an opportunity to celebrate the success of the two charter flights, organized by the Embassy of France in China and CCI FRANCE CHINE, together with the passengers.\n\n \n\nDuring this exclusive gathering, you will enjoy some wonderful moments for professional exchange with your business peers. To better assist your future projects, we also look forward to catching up with our fellow members. Let's get together and embrace beautiful autumn with some festive food and drinks.\n\nDate: Wednesday, 14 September 2022\nTime: 6:30 PM - 10:00 PM\nVenue: CCI FRANCE CHINE Shanghai Office, 2/F, Mayfair Tower, 83 Fu Min Road, Shanghai / 中国法国工商会上海办公室, 上海市富民路83号巨富大厦2楼 \n\nReminders: In order to respect the safety regulations, this event is limited to a number of places. Guests are kindly requested to follow the epidemic prevention and control measures of Shanghai. 
BEGIN:VALARM
ACTION:DISPLAY
TRIGGER:-PT60M
DESCRIPTION:CCI France Chine Welcome Back Cocktail @ Shanghai
END:VALARM
END:VEVENT
END:VCALENDAR