BEGIN:VCALENDAR
VERSION:2.0
X-WR-TIMEZONE:Europe/Paris
PRODID:-//Audencia//NONSGML v1.0//EN
CALSCALE:GREGORIAN
BEGIN:VEVENT
SUMMARY:CCI France Chine Welcome Back Cocktail @ Beijing
DTSTART:20220908T123000
DTEND:20220908T160000
UID:1352
DTSTAMP:20260425T210023
LOCATION:CCI FRANCE CHINE Beijing Office: Suites 201-222, 2F, Building 81, No. 4 Gongti North Road, Chaoyang District, Beijing, China
DESCRIPTION:Our partner, CCI FRANCE CHINE, is pleased to invite you to its traditional Welcome Back Cocktail\n \n\nIn the presence of\nMr. Jean-Marc Fenet, Economic Counsellor for Economic Affairs at the French Embassy\n&\nCCI FRANCE CHINE's Board Members\n&\nCaroline Penard, General Manager of CCI FRANCE CHINE\n \n\nEvery year, CCI FRANCE CHINE organizes its welcome back cocktail to gather the Sino-French business community in a friendly and casual environment after the summer break. This year, the cocktail will be an opportunity to celebrate the success of the two charter flights, organized by the Embassy of France in China and CCI FRANCE CHINE, together with the passengers.\n\n \n\nDuring this exclusive gathering, you will enjoy some wonderful moments for professional exchange with your business peers. To better assist your future projects, we also look forward to catching up with our fellow members. Let's get together and embrace beautiful autumn with some festive food and drinks.\n\n\nDate: Thursday, 8 September 2022\n\nTime: 6:30 PM - 10:00 PM\n\nVenue: CCI FRANCE CHINE Beijing Office: Suites 201-222, 2F, Building 81, No. 4 Gongti North Road, Chaoyang District, Beijing / 北京市朝阳区工体北路4号院81号楼二层201-222室\n \n\nReminders: \nGuests are kindly requested to follow the epidemic prevention and control measures of Beijing, show negative Covid-19 test result within 72 hours, health code and travel code for entry. \n\nIn order to respect the safety regulations, this event is limited to a number of places.
BEGIN:VALARM
ACTION:DISPLAY
TRIGGER:-PT60M
DESCRIPTION:CCI France Chine Welcome Back Cocktail @ Beijing
END:VALARM
END:VEVENT
END:VCALENDAR