BEGIN:VCALENDAR
VERSION:2.0
X-WR-TIMEZONE:Europe/Paris
PRODID:-//Audencia//NONSGML v1.0//EN
CALSCALE:GREGORIAN
BEGIN:VEVENT
SUMMARY:Forum Emploi 2022 留法校友招聘论坛 - Beijing & Shanghai
DTSTART:20220917T040000
DTEND:20220917T100000
UID:1351
DTSTAMP:20260425T210656
LOCATION:Venue in Beijing: CCI FRANCE CHINE - Etage 2, Bâtiment 81, 4 Gongtibeilu, Chaoyang (Station Tuanjiehu, Ligne 10 de métro);  Venue in Shanghai : SHANGHAI CCI FRANCE CHINE - Etage 2, Mayfair Tower, 83 Fu Min Road, Jing’an (Station Jing’an Si, Ligne 2/7/14 de métro).
DESCRIPTION:\n\n\n\nYou are invited to the 11th edition of the Forum Emploi on September 17th, 2022 in Beijing & Shanghai. 我们诚邀您参加于2022年9月17日在北京和上海举办的第十一届留法校友招聘论坛。\n\n \nDate: Saturday, September 17th, 2022 | 日期 : 周六，2022年9月17日\nTime: 10:00 am - 04:00 pm | 时间 ：上午10点-下午4点\nFees: Free | 费用：免费\nVenue in Beijing: CCI FRANCE CHINE - Etage 2, Bâtiment 81, 4 Gongtibeilu, Chaoyang (Station Tuanjiehu, Ligne 10 de métro). | 北京地址：中国法国工商会 朝阳区工体北路4号81号楼2层 (地铁10号线，团结湖站).\nVenue in Shanghai: SHANGHAI CCI FRANCE CHINE - Etage 2, Mayfair Tower, 83 Fu Min Road, Jing’an (Station Jing’an Si, Ligne 2/7/14 de métro). | 上海地址: 中国法国工商会 静安区富民路83号巨富大厦2层 (地铁2/7/14号线，静安寺站).\n\n\n\n \n\nLa CCI FRANCE CHINE, en coopération avec Campus France, et le réseau France Alumni est ravie de vous présenter la 11ème édition du Forum Emploi sur Pékin et Shanghai le 17 septembre prochain.\n\nLancé en 2011 par l’Ambassade de France en Chine, le Forum Emploi est devenu en quelques années le salon privilégié par les entreprises à la recherche de candidats hautement qualifiés et diplômés de l’enseignement supérieur français.\n\n \n\nCCI FRANCE CHINE, in cooperation with Campus France and the French alumni network, is pleased to present you with the 11th Employment Forum in Beijing and Shanghai on September 17th.\n\nLaunched in 2011 by the French Embassy in China, this Employment forum became - in just a few years - the preferred exhibition for companies looking for highly skilled talents and graduates of French higher education.\n\n \n\n中国法国工商会携手法国高等教育署邀请您参加于2022年9月17日在北京和上海举办的第十一届留法校友招聘论坛。\n\n留法校友招聘论坛由法国驻华大使馆于2011年创立，历经几年的发展，已经成为了企业招聘资质优异、拥有法国高等教育水平人才的最佳选择。\n\n本次招聘论坛多家中法企业带来最近岗位，涵盖管理、财务、工程、市场、销售、技术、管培生、实习生等不同行业及类型。\n \n\nScan to attend this forum\n\n↓ 扫码报名招聘会 ↓\n\n\n\nHighlights of this year's recruitment forum 本届招聘会亮点\n\nHigh-quality enterprises are brought together. 高质量企业齐聚一堂。\n\nOnline and offline warm-up activities to help prepare for your job search. 线上和线下的热身活动，帮助你为求职做准备。\n\nEarly Bird Event Registrations will get an exclusive interview slot. 早期活动报名者将获得一个独家面试名额。\n\n\n
BEGIN:VALARM
ACTION:DISPLAY
TRIGGER:-PT60M
DESCRIPTION:Forum Emploi 2022 留法校友招聘论坛 - Beijing & Shanghai
END:VALARM
END:VEVENT
END:VCALENDAR