BEGIN:VCALENDAR
VERSION:2.0
X-WR-TIMEZONE:Europe/Paris
PRODID:-//Audencia//NONSGML v1.0//EN
CALSCALE:GREGORIAN
BEGIN:VEVENT
SUMMARY:CCI France Chine Event: [Conférence historique sur Tianjin] Vestiges et témoignages d’une histoire singulière
DTSTART:20220917T130000
DTEND:20220917T140000
UID:1350
DTSTAMP:20260425T210043
LOCATION:Suites 203-216, & 222, 2F, Building 81, No. 4 Gongti North Road, Beijing, China
DESCRIPTION:Arpenter les rues de Tianjin, c’est replonger plus de cent ans en arrière, à une époque où coexistaient de multiples nationalités qui ont façonné une partie de la ville en lui conférant une identité architecturale unique et composite. \n\n \n\nTout en retraçant les principales étapes de l’histoire de cette ville, cette conférence explorera certains éléments de ce patrimoine singulier, souvent associé au quartier touristique des « cinq avenues » (五大道) qui n’en recouvre qu’une partie. À travers la présentation de certains épisodes historiques et personnalités marquantes, le tout émaillé de quelques anecdotes, nous partirons à la découverte de plusieurs lieux emblématiques, tels que des parcs, des églises, d’anciennes résidences ou municipalités étrangères.\n\n \n\nNous nous intéresserons à l’histoire et aux caractéristiques architecturales de ces vestiges d’un passé encore trop méconnu.\n\n \n\nIntervenante\n\nFleur Chabaille-Wang\n\n \n\nAgenda  \n\nDate : Lundi 19 septembre 2022\nHoraires :\n\n\n	18h30 : Accueil\n	19h00 - 20h00 : Conférence et Q&A\n	20h00 : Cocktail\n\n\nLangue : Français\nTarifs : \n\n\n	Audencia Alumni : Gratuit\n	Membres CCI FRANCE CHINE : Gratuit\n	Membres de la Société d’Histoire des Français de Chine : Gratuit\n	Non-Membres : 150 RMB\n	Webinar : Gratuit\n\n\nLieu : CCI FRANCE CHINE Beijing Office ou Webinar\n\nSuites 203-216, & 222, 2F, Building 81, No. 4 Gongti North Road, Beijing / 工体北路4号院81号楼二层203-216, & 222室\n\n报名成功后将会发送参会信息到邮箱 / Les informations de connexion seront communiquées par email, après inscription, quelques jours avant l'événement.\n\nInscription : scannez le code QR ou cliquez ici\n\n\n\nRemarque\n\nEn respect des règles sanitaires en vigueur, merci de bien vouloir présenter votre QR code vert à l’entrée. Un test PCR négatif de moins de 72h pourra être demandé pour accéder au bâtiment. Une notification vous sera envoyée en amont le cas échéant.
BEGIN:VALARM
ACTION:DISPLAY
TRIGGER:-PT60M
DESCRIPTION:CCI France Chine Event: [Conférence historique sur Tianjin] Vestiges et témoignages d’une histoire singulière
END:VALARM
END:VEVENT
END:VCALENDAR