BEGIN:VCALENDAR
VERSION:2.0
X-WR-TIMEZONE:Europe/Paris
PRODID:-//Audencia//NONSGML v1.0//EN
CALSCALE:GREGORIAN
BEGIN:VEVENT
SUMMARY:CCI France Chine Event: Chinese castles, a mysterious treasure to explore
DTSTART:20220906T120000
DTEND:20220906T133000
UID:1349
DTSTAMP:20260425T210045
LOCATION:Suites 201-222, 2F, Building 81, No. 4 Gongti North Road, Chaoyang District, Beijing, China
DESCRIPTION:Introduction\n\nAs one of the important cultural heritage, castles always attracted many attentions and visitors including us. We are familiar with European-style castles. But do you know there are ten thousand castles around China?\n\nChinese castles represent courage, protection, romance, culture, big family and mysterious treasure to explore. Through Chinese Castle, you will better understand yesterday and today’s country life in China.\n\nCCI FRANCE CHINE is very please to organize this conference/webinar with experts from World Castle Association. Our speakers are going to share key interpretations and insights into Chinese castle. Different types of Chinese-style castles will be introduced, including the only one castle who was designed based on the shape of the Twenty-Eight Mansions of the Chinese constellations system, with 10km tunnel. You will be shared as well the history about cultural heritage protection and rural construction in China. \n\n \n\nReminders: \n- The conference will be both offline in Beijing and via webinar. Places in Beijing are limited in accordance with the city health requirements.\n- Guests are kindly requested to follow the epidemic prevention and control measures of Beijing, show negative Covid-19 test result within 72 hours, health code and travel code for entry.\n\n \n\nAgenda and Outline\n\n \n\nRegistration: 6:00 pm – 6:30 pm\n\n \n\nPART I: 6:30 pm – 6:45 pm\n\nA brief introduction of World Castle Association\n\nA brief comparation between European and Chinese castle\n\nA general introduction of Chinese castles\n\n \n\nBy Mr. Gong Hua, General Secretary of World Castle Association\n\n\nPART II: 6:45 pm – 7:20 pm\n\nVideo presentation and introduction of Zhangbi Ancient Fortress, a fascinating example of Chinese castle with 1,600 years history;\n\nHow an energy group protect the cultural heritage and vitalize rural areas;\n\nThe combination of tourism and cultural heritage.\n\n \n\nBy Mr. Lu Yang, general Manager of Zhang Bi Ancient castle\n\n\nPART III: 7:20 pm – 7:30 pm\n\nQ&A \n\n \n\nCocktail: 7:30 pm\n\n \n\nSpeakers\n \n\n\n	\n		\n			\n			Mr. Gong Hua\n			·  Secretary-General of World Castle Association;\n			·  Deputy Secretary-General of French Returned Scholars Association of WRSA;\n			·  25 years’ experience in culture and sports.\n		\n		\n			 \n			 \n		\n		\n			\n			Mr. Lu Yang \n			·  General Manager of Shanxi Kaijia Zhangbi Fortress Eco-Tourism Co., Ltd;\n			·  Executive member of Association of Industry and Commerce of Shanxi province;\n			·  Deputy of the Municipal People's Congress of Jingzhong, Shanxi province;\n			·  Member of the Youth Committee of American Returned Scholars Association of WRSA.\n		\n	\n\n\n \n\nDate: Tuesday September 6th, 2022\n\nTime: 18:00 - 19:30 in China\n\nLanguage: English\n\nFee: Free for Audencia Alumni & CCI FRANCE CHINE members\n\nLocation: CCI FRANCE CHINE Beijing Office + Webinar\n\nSuites 201-222, 2F, Building 81, No. 4 Gongti North Road, Chaoyang District, Beijing / 北京市朝阳区工体北路4号院81号楼二层201-222室\n\nLogin information will be communicated by email after registration.\nRegistration: Scan the following QR code or click here\n\n
BEGIN:VALARM
ACTION:DISPLAY
TRIGGER:-PT60M
DESCRIPTION:CCI France Chine Event: Chinese castles, a mysterious treasure to explore
END:VALARM
END:VEVENT
END:VCALENDAR