BEGIN:VCALENDAR
VERSION:2.0
X-WR-TIMEZONE:Europe/Paris
PRODID:-//Audencia//NONSGML v1.0//EN
CALSCALE:GREGORIAN
BEGIN:VEVENT
SUMMARY:CCI France Chine Webinar: "Carbon" future — Opportunities and Development Under Carbon Background
DTSTART:20220722T080000
DTEND:20220722T103000
UID:1348
DTSTAMP:20260425T210044
LOCATION:
DESCRIPTION:Introduction\n\nClimate change is an important issue in the current era. Government, Enterprises and Individuals are seeking ways to reduce its impact on climate.\n\nChina aims to achieve its carbon peak by 2030, and carbon neutralization by 2060, which is not only the internal requirement for China to achieve sustainable and high-quality development but also the inevitable choice to promote the construction of a community with a shared future for mankind. Facing the increasingly severe trend of energy conservation and emission reduction and carbon neutralization, it is a long way for enterprises to pay attention to and understand the low-carbon development trend domestic and worldwide, seize the opportunity to save energy and reduce consumption.\n\nAiming at this goal, Bureau Veritas and CCI FRANCE CHINE, specially invited well-known carbon experts in the industry to organize a seminar activity, to share and discuss how to implement double carbon work from the perspective of enterprises and products angle in accordance with international standards, sort out the latest green and low-carbon development philosophy and share some of the latest green and low-carbon practice cases of enterprises, so as to provide reference and inspiration for enterprises to achieve carbon neutrality.\n\n \n\nAgenda \n\nDate: Friday, July 22nd, 2022\nTime: 2:00pm - 4:30pm\nLanguage: Chinese\nFees: Free for Members | 150 RMB for Non-Members\n\n \n\nSpeaker\n\n\n\nHuang Min\n\n- Sustainable Development Product Manager of BV\n\n- Carbon management expert\n\n- Green product evaluation expert of BV\n\n- Carbon Footprint training lecturer, greenhouse Gas inspector\n\n \n\nVenue: Webinar (Tencent Meeting) The connection information will be sent by email after registration / 报名成功后将会发送参会信息到邮箱\n\n \n\nAbout Bureau Veritas\n\nBureau Veritas is a world leader in testing, inspection and certification services. Created in 1828, the Group has more than 70,000 employees in approximately 1,400 offices and laboratories located all around the world.\n\n \n\nBureau Veritas helps its over 400,000 clients to improve their performance by offering services and innovative solutions. We ensure that their assets, products, infrastructure and processes meet standards and regulations in terms of quality, integrity, health and safety, environmental protection and social responsibility.\n\nRegistration\n\nScan the QR code or click here\n\n
BEGIN:VALARM
ACTION:DISPLAY
TRIGGER:-PT60M
DESCRIPTION:CCI France Chine Webinar: "Carbon" future — Opportunities and Development Under Carbon Background
END:VALARM
END:VEVENT
END:VCALENDAR