BEGIN:VCALENDAR
VERSION:2.0
X-WR-TIMEZONE:Europe/Paris
PRODID:-//Audencia//NONSGML v1.0//EN
CALSCALE:GREGORIAN
BEGIN:VEVENT
SUMMARY:Les Foulées du numérique - édition 2022
DTSTART:20220918T083000
DTEND:20260425T210657
UID:1347
DTSTAMP:20260425T210657
LOCATION:Parc des Chantiers, Boulevard Léon Bureau, Nantes, France
DESCRIPTION:? Les Foulées du numérique font leur retour le 18 septembre 2022 pour leur 3e édition !\n\n\nLe rendez-vous ?\n\nLe dimanche 18 septembre 2022 au Parc des Chantiers (Ile de Nantes) : retrait des dossards à partir de 8h30 - premier départ à 9h30 - fin de la course à 11h30 - ravitaillement & stands \n\n \n\nLe concept ?\n\nDécouvrir et rassembler l'écosystème du numérique nantais autour d'une course solidaire. C'est ainsi que les Foulées du Numérique ont été fondées en 2019 par Thomas Mathieu, diplômé du programme Bachelor en 2012. L'ensemble des bénéfices seront reversés à 2 associations engagées dans la lutte contre le cancer :\n \n\n\n	?Madame S est une association nantaise créée en 2017 engagée dans la lutte contre le cancer du sein. Ses actions s'étalent tout au long de l'année et portent sur l'organisation d'événements de sensibilisation et de récolte de fonds pour soutenir les personnes malades et leur entourage.\n	? Dessine-moi la High Tech est une association fondée en 2019 ayant pour objectif d’accompagner la lutte contre les cancers pédiatriques en mobilisant les leviers des nouvelles technologies. Ses actions visent à améliorer la qualité de vie des jeunes patients hospitalisés et à soutenir la recherche sur la maladie.\n\n\n\nLe principe ?\n\nVous participez à une course solidaire non chronométrée de 4,2 à 8,4 km sur 2 heures (de 9h30 à 11h30). Départs sur l'Ile de Nantes au Parc des Chantiers !\n\n\n\nL'objectif ?\n\nCette année, les Foulées du Numérique souhaitent rassembler 2000 coureurs afin de reverser plus de 20 000€ aux associations !\n \n\n? POUR PARTICIPER ?\n\nPour courir : clique ici.\n\nPour courir avec mon entreprise : clique ici.\n\nPour être bénévole : clique ici. \n\nPour être partenaire : clique ici.\n  \n\n                  \n   \n\nEnsemble, unissons nos forces dans la lutte contre le cancer. \n#TousConcernés
BEGIN:VALARM
ACTION:DISPLAY
TRIGGER:-PT60M
DESCRIPTION:Les Foulées du numérique - édition 2022
END:VALARM
END:VEVENT
END:VCALENDAR