BEGIN:VCALENDAR
VERSION:2.0
X-WR-TIMEZONE:Europe/Paris
PRODID:-//Audencia//NONSGML v1.0//EN
CALSCALE:GREGORIAN
BEGIN:VEVENT
SUMMARY:Employment Seminar: Supply Chain Professionals
DTSTART:20220731T080000
DTEND:20220731T103000
UID:1346
DTSTAMP:20260425T210045
LOCATION:Shennan Avenue, Futian, Shenzhen, Guangdong, Chine
DESCRIPTION:
BEGIN:VALARM
ACTION:DISPLAY
TRIGGER:-PT60M
DESCRIPTION:Employment Seminar: Supply Chain Professionals
END:VALARM
END:VEVENT
END:VCALENDAR