BEGIN:VCALENDAR
VERSION:2.0
X-WR-TIMEZONE:Europe/Paris
PRODID:-//Audencia//NONSGML v1.0//EN
CALSCALE:GREGORIAN
BEGIN:VEVENT
SUMMARY:Afterwork in Lisbon, Portugal
DTSTART:20220711T180000
DTEND:20220711T200000
UID:1345
DTSTAMP:20260425T210032
LOCATION:Park rooftop  Calçada do Combro 58 1200-123 Lisboa
DESCRIPTION:\n\nAudencia student Thibaut Desbordes is currently on an internship in the beeautiful city of Lisbon. He has taken the initiative of organising an afterwork for Audencians before he returns to Nantes.\n\nAlumni and students, come and join him:\n- Monday 11 July\n- From 18:00\n- At the Park rooftop (Calçada do Combro 58, 1200-123 Lisboa)\n\nLooking forward to seeing some pictures of the gathering!\n\n 
BEGIN:VALARM
ACTION:DISPLAY
TRIGGER:-PT60M
DESCRIPTION:Afterwork in Lisbon, Portugal
END:VALARM
END:VEVENT
END:VCALENDAR