BEGIN:VCALENDAR
VERSION:2.0
X-WR-TIMEZONE:Europe/Paris
PRODID:-//Audencia//NONSGML v1.0//EN
CALSCALE:GREGORIAN
BEGIN:VEVENT
SUMMARY:Online conference with Fabrice Bonnifet, CSR Director of Bouygues Group
DTSTART:20220704T180000
DTEND:20220704T190000
UID:1344
DTSTAMP:20260425T210030
LOCATION:
DESCRIPTION:Join Fabrice Bonnifet, CSR Director of the Bouygues Group for a conversation about sustainability and social issues, relations with suppliers, difference between the construction and media sectors, and much more...\n\nOn Monday 4 July\nFrom 18:00 to 19:00\n\n\nFOLLOW THIS LINK TO JOIN THE CONFERENCE\n\nAbout our speaker\nFabrice Bonnifet is the Sustainable Development & QSE (Quality Safety Environment) Director of Bouygues Group. He  is also President of the C3D which gathers all the Directors of Sustainable Developement  in France and one of the administrators of the Shift Project, a well known French Think Tank which has recently proposed a detailed Plan to transform & decarbonise the French economy. \nHe is the author of “L’entreprise contributive”.\n \nBouygues is a diversified group established in 80 countries, with a Turn-over to 35bn euros,  acting in 3 sectors: construction, telecoms and medias. \nSince 2006, Bouygues has participated in the United Nations Global Compact.\nThe group also sponsors The Shift Project.\n 
BEGIN:VALARM
ACTION:DISPLAY
TRIGGER:-PT60M
DESCRIPTION:Online conference with Fabrice Bonnifet, CSR Director of Bouygues Group
END:VALARM
END:VEVENT
END:VCALENDAR