BEGIN:VCALENDAR
VERSION:2.0
X-WR-TIMEZONE:Europe/Paris
PRODID:-//Audencia//NONSGML v1.0//EN
CALSCALE:GREGORIAN
BEGIN:VEVENT
SUMMARY:Webinar: Mastering decline: making profit against the odds
DTSTART:20220811T130000
DTEND:20220811T140000
UID:1343
DTSTAMP:20260425T210325
LOCATION:
DESCRIPTION:AMBA webinar "Mastering decline: making profit against the odds"\n\nDate: Thursday 11 August 2022 Paris time\nTime: 13:00 to 14:00 \n\nCompounded by the pandemic-induced economic recession, many companies find themselves operating in declining markets – markets that have no real long-term prospects for growth, and where the demand for certain goods and services are stable at best but are not increasing. Yet, in such an environment, it is possible for companies to survive and make profits.\n\nIn this session, a former management consultant and current CEO of a company that survived decline in its market provides practical and hard-won advice for managers and owners of any company in a declining market or situation. In doing so, we will highlight key activities that companies in declining markets should focus on in order to secure their future and remain profitable.  \nAbout our speaker\nAlain Liebaert started his career as a management consultant, specialising in reorganising companies on a ‘no cure, no pay’ basis. Following the death of his father, Alain entered the family business – Liebaert Textiles – and eventually became CEO, where he turned the business around in a declining market. After 30 challenging years, he left the family business in the capable hands of his children (the fifth generation), only to return to his old love of management consulting.\n \nTo join the webinar\nREGISTER HERE\n \n\nDid you graduate from an AMBA-accredited programme at Audencia?\nThis webinar is accessible to students or alumni of an AMBA-accredited programme at Audencia, i.e., Executive MBA, EuroMBA, Full-Time MBA or Master in Management (Grande Ecole Programme), but registration is required. Registering as an alum of an AMBA-accredited programme takes only a few minutes.\n\nThis event is free for AMBA members to attend but registration is required using the link above.\n \n
BEGIN:VALARM
ACTION:DISPLAY
TRIGGER:-PT60M
DESCRIPTION:Webinar: Mastering decline: making profit against the odds
END:VALARM
END:VEVENT
END:VCALENDAR