BEGIN:VCALENDAR
VERSION:2.0
X-WR-TIMEZONE:Europe/Paris
PRODID:-//Audencia//NONSGML v1.0//EN
CALSCALE:GREGORIAN
BEGIN:VEVENT
SUMMARY:Webinar: How to be an authentic yet effective networker in the 21st century
DTSTART:20220914T130000
DTEND:20220914T140000
UID:1342
DTSTAMP:20260425T211558
LOCATION:
DESCRIPTION:AMBA webinar "How to be an authentic yet effective networker in the 21st century"\n\nDate: Wednesday 14 September 2022 Paris time\nTime: 13:00 to 14:00 \n\nProfessional relationships are no different to personal relationships, and in order to derive the best value from them, we first need to invest. The thinking behind modern networking is focused on the values of connection, purpose and the courage to be genuine. In this webinar, Alisa Grafton, will look at the new mindset and provide practical tools to allow you to become great at business networking. \nAbout our speaker\nAlisa Grafton is a practising lawyer and a partner, who has been working in the City of London and the West End for over 20 years. She credits much of her professional success to learning how to create authentic, mutually giving connections with others, and maintaining existing relationships within her network.\n\nGreat Networking is her first book, which reflects on her personal journey as a young professional, draws inspiration from those who have proven to be masterful at networking, and guides the reader through the complete process of becoming effective at building great, happy professional relationships, whilst staying true to yourself.\n \nTo join the webinar\nREGISTER HERE\n \n\nDid you graduate from an AMBA-accredited programme at Audencia?\nThis webinar is accessible to students or alumni of an AMBA-accredited programme at Audencia, i.e., Executive MBA, EuroMBA, Full-Time MBA or Master in Management (Grande Ecole Programme), but registration is required. Registering as an alum of an AMBA-accredited programme takes only a few minutes.\n\nThis event is free for AMBA members to attend but registration is required using the link above.\n \n
BEGIN:VALARM
ACTION:DISPLAY
TRIGGER:-PT60M
DESCRIPTION:Webinar: How to be an authentic yet effective networker in the 21st century
END:VALARM
END:VEVENT
END:VCALENDAR