BEGIN:VCALENDAR
VERSION:2.0
X-WR-TIMEZONE:Europe/Paris
PRODID:-//Audencia//NONSGML v1.0//EN
CALSCALE:GREGORIAN
BEGIN:VEVENT
SUMMARY:CCI France Chine Webinar: [Communication & Marketing Working Group] Reshaping F&B offer to survive strict lockdown: Best practices
DTSTART:20220622T123000
DTEND:20220622T133000
UID:1340
DTSTAMP:20260425T210026
LOCATION:
DESCRIPTION:Date: Wednesday, June 22nd\n\nTime: 18:30-19:30 in China / 12:30-13:30 in France\n\nEvent Format: Online\n\nFees: Free for Audencia Alumni & CCI FRANCE CHINE Member\n\nLanguage: English\n\n
BEGIN:VALARM
ACTION:DISPLAY
TRIGGER:-PT60M
DESCRIPTION:CCI France Chine Webinar: [Communication & Marketing Working Group] Reshaping F&B offer to survive strict lockdown: Best practices
END:VALARM
END:VEVENT
END:VCALENDAR