BEGIN:VCALENDAR
VERSION:2.0
X-WR-TIMEZONE:Europe/Paris
PRODID:-//Audencia//NONSGML v1.0//EN
CALSCALE:GREGORIAN
BEGIN:VEVENT
SUMMARY:MASTERCLASS - FRANCE MÉDIAS MONDE
DTSTART:20171127T130000
DTEND:20171127T140000
UID:134
DTSTAMP:20260425T205902
LOCATION:Mediacampus  41 boulevard de la Prairie au Duc 44200 Nantes
DESCRIPTION:MASTERCLASS - FRANCE MEDIAS MONDE\n\nA l’occasion de la venue au Mediacampus de l’équipe France Médias Monde* dans le cadre d’un atelier vidéo mobile avec les étudiants Audencia SciencesCom, nous vous proposons un temps d’échange autour de leurs activités et pratiques social media. \n \nRDV le 27/11 de 13h à 14h dans l’Agora du MEDIACAMPUS pour échanger avec :\n \nMathieu BERTOLO, Head of Social Media France Media Monde\nSylvain MORNET (Audencia SciencesCom 2008), Chief video Editor France 24\nDavid BEAUX, Social Media Editor France 24\n\n \n*Le groupe France Médias Monde réunit France 24, la chaîne d’information continue trilingue ; RFI, la radio mondiale et Monte Carlo Doualiya, la radio universaliste en langue arabe. Les trois chaînes émettent depuis Paris à destination des 5 continents, en 15 langues et rassemblent chaque semaine plus de 100 millions d’auditeurs et de téléspectateurs (mesurés dans moins du tiers de leurs pays de diffusion). Les trois médias du groupe cumulent 35 millions de visites dans leurs environnements numériques chaque mois (moyenne 2017) dont près de 40% sur les offres en langues étrangères. Ils rassemblent 60 millions d’abonnés sur Facebook et Twitter (juillet 2017). 
BEGIN:VALARM
ACTION:DISPLAY
TRIGGER:-PT60M
DESCRIPTION:MASTERCLASS - FRANCE MÉDIAS MONDE
END:VALARM
END:VEVENT
END:VCALENDAR