BEGIN:VCALENDAR
VERSION:2.0
X-WR-TIMEZONE:Europe/Paris
PRODID:-//Audencia//NONSGML v1.0//EN
CALSCALE:GREGORIAN
BEGIN:VEVENT
SUMMARY:MBA cheese & wine evening in Nantes
DTSTART:20221215T183000
DTEND:20221215T220000
UID:1339
DTSTAMP:20260425T210208
LOCATION:Audencia Forum Atlantic Campus 8 route de la Jonelière 44312 Nantes
DESCRIPTION:Dear MBAs past and present,\n\nWe are delighted to invite you to Audencia's historic Atlantic Campus for an event dedicated to the MBA Community on:\n \nThursday 15 December 2022\nfrom 18:30 to 22:00\n\n\n\nProgramme:\n18:30-19:00 Guests arrive\n19:00-19:15 Welcome messages from the MBA programme directors\n19:15-20:00 Presentation of 10-Vins & Beillevaire\n20:00-21:30 Tasting & networking\n22:00 End of the event\n \n\nRegistration mandatory\nThis invitation is valid for members of Audencia's MBA Community only\n\n \n\n\nIf you have any questions, drop a line to Katie Francois / kfrancois@audencia.com\n\n
BEGIN:VALARM
ACTION:DISPLAY
TRIGGER:-PT60M
DESCRIPTION:MBA cheese & wine evening in Nantes
END:VALARM
END:VEVENT
END:VCALENDAR