BEGIN:VCALENDAR
VERSION:2.0
X-WR-TIMEZONE:Europe/Paris
PRODID:-//Audencia//NONSGML v1.0//EN
CALSCALE:GREGORIAN
BEGIN:VEVENT
SUMMARY:MBA class of 2023 welcome session with alumni, Audencia Atlantic Campus, Nantes
DTSTART:20220923T173000
DTEND:20220923T200000
UID:1338
DTSTAMP:20260425T210114
LOCATION:Forum Audencia Atlantic Campus
DESCRIPTION:Living, studying and working in Nantes - all you wanted to know but were afraid to ask!\n\nAudencia is delighted to welcome the latest cohort of full-time MBA students.\n\nAt a time when they are getting their bearings and working out where the classroom is and what time they have to be there, our new cohort would like to know more about Nantes. Alumni form the programme are invited to join the group for an informal discussion on living, studying and working in Nantes, followed by a cocktail.\nDate: Friday 23 September\nTime: 17:30 to 20:00\nVenue: The Forum (lower ground floor) Audencia Atlantic Campus\n\n
BEGIN:VALARM
ACTION:DISPLAY
TRIGGER:-PT60M
DESCRIPTION:MBA class of 2023 welcome session with alumni, Audencia Atlantic Campus, Nantes
END:VALARM
END:VEVENT
END:VCALENDAR