BEGIN:VCALENDAR
VERSION:2.0
X-WR-TIMEZONE:Europe/Paris
PRODID:-//Audencia//NONSGML v1.0//EN
CALSCALE:GREGORIAN
BEGIN:VEVENT
SUMMARY:Event focusing on the challenges of managing hyper growth in Toronto, Canada
DTSTART:20220628T180000
DTEND:20220628T210000
UID:1336
DTSTAMP:20260425T210124
LOCATION:bumpkins  21 Gloucester Street Toronto
DESCRIPTION:Let's kick off the summer with an in person event in Toronto !\nOur keynote will be Bertrand Loumaye (INSEAD) , Managing Director of Cerelia North America , who will talk about the challenge of hyper growth.\n\nDate: Tuesday 28 June\nTime: 6pm to 9pm\nVenue: bumpkins, 21 Gloucester Street, Toronto\n\nProgramme:\n6:00 pm : Networking\n7:00 pm : Keynote - Q&A\n7:40 pm : Networking\n\nDetails and registration here\n\nCerelia is :\n\n	12 plants\n	Revenues: 750 M USD\n	2000 people, including 700 in North America\n	Company is 10 years old only ( started 10 years with 1 plant, around $40M USD )\n	More than 300 customers world wide in retail, food service, co-manufacturing and digital\n	For North America, 2 years ago  $100M, now on its way to do $300M from a revenue point of view.\n\n\nBertrand Loumaye (INSEAD) is their Managing Director for North America. As such he :\n\n	Drives the growth and profitability of the Cerelia business, both in US and Canada, through strategic and operational management of the commercial & operational business units: manufacturing, food service and retail.\n	Develops and sustains a business culture of value creation & trust, ensuring Cerelia builds the skills and capability to meet the long term growth objectives.\n\n\n\n\n\nAAGEF Ontario includes alumni from the following Elite French Graduate Schools: Arts et Métiers Paris Tech, Audencia Business Schools, Ecoles Centrales, EDHEC, EM Lyon, Grenoble Ecole de Management, ENA, ENS Normale Sup, ESSEC, ESCP Europe, INSEAD, Mines-Télécom, HEC Paris, Ecole  Polytechnique Paris, ENPC Paris Tech, Sciences Po Paris, Supaéro,  Supélec , Agro Uniagro Paris Tech, ENSTA Paris Tech, Chimie Paris Tech, ENSAE Paris Tech, Sup Optique Paris Tech, ESPCI Paris Tech, Neoma Business School, Skema Business School.\n\nAAGEF Ontario also includes alumni having participated in an exchange with one of AAGEF Ontario graduate schools, Honorary Members and sponsored Alumni Friends from other leading international universities.\n\nOur Mission\n\n	Improve the recognition of the Elite French Graduate Schools among the Ontario Business Community\n	Facilitate and promote networking between our members and alumni from leading Ontario and Canadian Graduate Schools ( Engineering, Management, Public Administration ) as well as with  alumni from any other leading universities around the world or members of prestigious  business clubs in Toronto. In short, we are linking international business leaders​ in Ontario together\n\n \n\nRemember to bring your business cards !  
BEGIN:VALARM
ACTION:DISPLAY
TRIGGER:-PT60M
DESCRIPTION:Event focusing on the challenges of managing hyper growth in Toronto, Canada
END:VALARM
END:VEVENT
END:VCALENDAR