BEGIN:VCALENDAR
VERSION:2.0
X-WR-TIMEZONE:Europe/Paris
PRODID:-//Audencia//NONSGML v1.0//EN
CALSCALE:GREGORIAN
BEGIN:VEVENT
SUMMARY:Audencia Homecoming Day 2022
DTSTART:20221210T153000
DTEND:20221211T020000
UID:1335
DTSTAMP:20260425T210023
LOCATION:Audencia, Route de la Jonelière, Nantes, France
DESCRIPTION:\n\nChers diplômés,\n\nAudencia, pour vous, c’était hier ou il y a plus longtemps ? L’école s’appelait peut-être encore Sup’ de Co, Ecole Atlantique de Commerce ou SciencesCom… \n\nPour célébrer l'anniversaire de votre promotion* comme il se doit, nous avons le plaisir de vous inviter à la 3e édition de Audencia Homecoming Day, un événement annuel de retrouvailles et de célébration des anniversaires de promotion de tous les programmes de l'école.\n\nLe temps d’une fin d'après-midi et d'une soirée pleine de surprises, nous vous promettons de raviver vos beaux souvenirs, en vous entraînant dans un voyage au cœur de votre école pour une expérience immersive à la (re)découverte des lieux et des personnes qui ont marqué vos années étudiantes.\n\nRéservez votre place dès maintenant, rencontrez ceux qui font Audencia aujourd’hui, retrouvez vos camarades perdus de vue et profitez de ce moment ensemble, avec une "Christmas Party" mémorable dans le gymnase !\n\n*Ca veut dire les alumni qui fêtent leurs anniversaires d'un an, 5 ans, 10 ans, 15 ans, etc., Autrement dit, les alumni dont l'année de promotion termine par 2, 7 et la promotion 2021. NEANMOINS, tous les alumni seront invités cette année !\n \n*Pour chaque participation, Audencia Alumni s’engage à reverser 10€ à la Fondation Audencia. \n\n \nPour les diplômés Bachelor & BBA : rendez-vous à City Campus\n(CCI Gare Maritime, 4 Rue Bisson)\n\n\n	15h30 – 16h : Lancement des festivités sur les campus nantais\n	16h30 : Mot de la direction\n	17h : Retrouvez vos camarades et votre campus autour d’activités\n	19h : Verre de l’amitié (sur Atlantic Campus, 8 Route de la Jonelière)\n	20h : Soirée « Christmas Party » au gymnase d’Atlantic Campus, le campus historique d’Audencia\n\n\n\nPour tous les autres diplômés (GE, MSc, Mastères Spécialisés, SciencesCom, MBA, DBA, Executive Education…) :\nrendez-vous à Atlantic Campus (8 Route de la Jonelière)\n\n\n	15h30 – 16h : Lancement des festivités sur les campus nantais\n	16h30 : Retrouvez vos camarades et votre campus autour d’activités\n	18h30 :Mot de la direction\n	19h : Verre de l’amitié\n	20h :Soirée « Christmas Party » au gymnase\n\n\n\n\nDear alumni,\n \nWas it only yesterday or longer ago than that? Perhaps Audencia was already Audencia or might be known as Sup’ de Co, Ecole Atlantique de Commerce, or SciencesCom. \n\nTo celebrate your graduation anniversary*, as it should be, we are delighted to invite you to the 3rd edition of Audencia Homecoming Day, an annual event of getting together for class anniversaries celebrations.\n\nDuring a late afternoon and evening full of surprises, we promise to revive your fond memories, taking you on a journey to the heart of your school for an immersive experience of (re)discovering the places and people that marked your student years. \n\nBook your place now, meet the people who are at Audencia today, catch up with your fellow alumni and enjoy this time together, with a memorable “Christmas Party” in the gym!\n\n*This means the alumni who are celebrating their 1 year, 5 years, 10 years, 15 years, ... of graduation. In other words, the alumni whose class year ends with 2, 7 and the class of 2021. HOWEVER, all alumni will be invited this year!\n \n*For each participation, Audencia Alumni is committed to donating €10 to Audencia Foundation.\n\n\nFor Bachelor & BBA graduates: meet at City Campus\n(CCI Gare Maritime, 4 Rue Bisson)\n\n\n	15:30 – 16:00 Welcome and festivities\n	16:30 Message from the directors\n	17:00 Catch up with your classmates through group activities\n	19:00 Cheers – enjoy a pre-party aperitif! (at Atlantic Campus, 8 Route de la Jonelière)\n	20:00 A Christmas-themed evening party in the gymnasium of Atlantic Campus, Audencia’s historic campus\n\n\n\nFor all other graduates (GE, MSc, Mastères Spécialisés, SciencesCom, MBA, DBA, Executive Education…):\nmeet at Atlantic Campus (8 Route de la Jonelière)\n\n\n	15:30 – 16:00 Welcome and festivities\n	16:30 Catch up with your classmates through group activities\n	18:30 Message from the directors\n	19:00 Cheers – enjoy a pre-party aperitif!\n	20:00 A Christmas-themed evening party in the gymnasium!\n
BEGIN:VALARM
ACTION:DISPLAY
TRIGGER:-PT60M
DESCRIPTION:Audencia Homecoming Day 2022
END:VALARM
END:VEVENT
END:VCALENDAR