BEGIN:VCALENDAR
VERSION:2.0
X-WR-TIMEZONE:Europe/Paris
PRODID:-//Audencia//NONSGML v1.0//EN
CALSCALE:GREGORIAN
BEGIN:VEVENT
SUMMARY:Summer cookout in New York, USA
DTSTART:20220622T180000
DTEND:20220622T200000
UID:1334
DTSTAMP:20260425T210148
LOCATION:YOTEL Rooftop bar 4th floor 570 Tenth Avenue New York, NY 10036
DESCRIPTION:Come and join us for a relaxing and fun cookout on Wednesday 22 June, 6-8pm, at the Yotel Rooftop Bar.\n\nAfter more than 2 years, we are bringing together all the Grandes Ecoles Alumni Networks to kick off the summer together. Long overdue!\n\nCome and enjoy drinks, burgers, corns, pineapple skewers and sweets and meet Grandes Ecoles alumni from all across the city.\n\nPart of the general admission is being taken care by AAGEF to welcome us all back. So no reason to miss it!\n \n\n\nGET YOUR TICKETS HERE\n\n\n\n\n\nAAGEF, Association des Amis des Grandes Ecoles de France is a not-for-profit organization that brings together the U.S. Alumni Clubs of the following leading major French Grandes Écoles:\nArts et Métiers ParisTech, Audencia, Centrale Lyon, Centrale Paris, EDHEC, EM Lyon, ENA, ENSAE, ESCP/EAP, ESSEC, HEC, HEC JF,  INSEAD, Mines ParisTech, Normale Sup, Ponts & Chaussées, Polytechnique, Sciences-Po, Supaero, Supelec and Telecom ParisTech.\n\nAdditional information: annedelouvignystone@gmail.com
BEGIN:VALARM
ACTION:DISPLAY
TRIGGER:-PT60M
DESCRIPTION:Summer cookout in New York, USA
END:VALARM
END:VEVENT
END:VCALENDAR