BEGIN:VCALENDAR
VERSION:2.0
X-WR-TIMEZONE:Europe/Paris
PRODID:-//Audencia//NONSGML v1.0//EN
CALSCALE:GREGORIAN
BEGIN:VEVENT
SUMMARY:CCI France Chine Webinar: Entering the Chinese market: M&A or Direct Investment?
DTSTART:20220615T090000
DTEND:20260425T210025
UID:1333
DTSTAMP:20260425T210025
LOCATION:
DESCRIPTION:\n\n\n\nDate: Wednesday, June 15th\nTime: 3:00pm\nEvent Format: Online Via Webinar\nLanguage: English\n \nRegistration: please scan the QR code above. \n\n\n \n\n \n\n\n 
BEGIN:VALARM
ACTION:DISPLAY
TRIGGER:-PT60M
DESCRIPTION:CCI France Chine Webinar: Entering the Chinese market: M&A or Direct Investment?
END:VALARM
END:VEVENT
END:VCALENDAR