BEGIN:VCALENDAR
VERSION:2.0
X-WR-TIMEZONE:Europe/Paris
PRODID:-//Audencia//NONSGML v1.0//EN
CALSCALE:GREGORIAN
BEGIN:VEVENT
SUMMARY:CCI France Chine Event: [Conférence Historique] Le voyage de Joseph-Marie Amiot en Chine au XVIIIème siècle: Un nouveau regard sur la musique chinoise
DTSTART:20220623T130000
DTEND:20220623T140000
UID:1332
DTSTAMP:20260425T210046
LOCATION:
DESCRIPTION:Introduction\n \n\nLa première véritable étude occidentale complète sur la musique chinoise provient du Père jésuite fran-çais Joseph-Marie Amiot (1718-1793). Arrivé le 22 août 1751 dans la capitale de l’empire Qing, il tente de s’assimiler à la culture chinoise. Prenant comme patronyme 钱德明 (Qian Deming), il débute l’apprentissage du mandarin, observe les coutumes en usage et entreprend d’étudier la musique chi-noise antique.\n\nUne des œuvres les plus importantes du Père jésuite est son Mémoire sur la musique des Chinois, tant anciens que modernes. Le but avoué du mémoire est non seulement de prouver l’existence d’un système musical chinois plus ancien que ceux élaborés en Grèce antique ou en Égypte pharaonique, mais de proposer ce système chinois comme à l’origine du système européen par le biais des Égyptiens puis des Grecs. Ce mémoire, annoté et publié en 1779 par l’abbé Pierre-Joseph Rous-sier (1716-1792), gagne progressivement en renommée pour devenir assez rapidement l’une des prin-cipales références européennes en termes de musique chinoise.\n\nCette conférence propose de revenir sur le parcours du missionnaire français en Chine afin d’expliquer le cheminement d’un regard porté sur un « Autre ». Dans un premier temps méfiant, Amiot tentera de se familiariser avec la musique chinoise dépassant ainsi ses a priori pour proposer à l’Europe un nouveau discours sur cette musique.\n\nIntervenant\n\nRoland Scheiff\nAgenda\n \n\nDate : Jeudi 23 juin 2022\nHoraires (Chine) :\n\n\n	18h30 : Accueil\n	19h00 - 20h00 : Conférence et Q&A\n	20h30 : Cocktail\n\n\nInformation\n \n\nLangue : Français\nTarifs : \n\n\n	Audencia Alumni & Membres CCI FRANCE CHINE : Gratuit\n	Non-Membres : 150 RMB\n	Webinar : Gratuit\n\n\nLieu : CCI FRANCE CHINE Beijing Office ou Webinar\n\n          Suites 203-216, & 222, 2F, Building 81, No. 4 Gongti North Road, Beijing  / 工体北路4号院81号楼二层203-216, & 222室\n          Les informations de connexion seront communiquées par email, après inscription, quelques jours avant l'événement / 报名成功后将会发送参会信息到邮箱\nRemarque : En respect des règles sanitaires en vigueur, merci de bien vouloir présenter votre QR code vert à l’entrée. Un test PCR négatif de moins de 48h pourra être demandé pour accéder au bâtiment. Une notification vous sera envoyée en amont le cas échéant.\nInscription : Scannez le code QR ou cliquez ici \n\n
BEGIN:VALARM
ACTION:DISPLAY
TRIGGER:-PT60M
DESCRIPTION:CCI France Chine Event: [Conférence Historique] Le voyage de Joseph-Marie Amiot en Chine au XVIIIème siècle: Un nouveau regard sur la musique chinoise
END:VALARM
END:VEVENT
END:VCALENDAR