BEGIN:VCALENDAR
VERSION:2.0
X-WR-TIMEZONE:Europe/Paris
PRODID:-//Audencia//NONSGML v1.0//EN
CALSCALE:GREGORIAN
BEGIN:VEVENT
SUMMARY:CCI France Chine Webinar: [Digital Marketing Working Group] SAVE THE DATE
DTSTART:20220622T120000
DTEND:20220622T133000
UID:1330
DTSTAMP:20260425T210144
LOCATION:
DESCRIPTION:Date: Wednesday, June 22nd\nTime: 18:00-19:30 in China / 12:00-13:30 in France\nEvent Format: Online\nLanguage: English\nFees: Free, reserved for Audencia Alumni & CCI FRANCE CHINE members\nRegistrations will open soon.
BEGIN:VALARM
ACTION:DISPLAY
TRIGGER:-PT60M
DESCRIPTION:CCI France Chine Webinar: [Digital Marketing Working Group] SAVE THE DATE
END:VALARM
END:VEVENT
END:VCALENDAR