BEGIN:VCALENDAR
VERSION:2.0
X-WR-TIMEZONE:Europe/Paris
PRODID:-//Audencia//NONSGML v1.0//EN
CALSCALE:GREGORIAN
BEGIN:VEVENT
SUMMARY:Interdisciplinarité, innovation pédagogique, hybridation : comment et où former les leaders de demain ?
DTSTART:20171123T173000
DTEND:20171123T180000
UID:133
DTSTAMP:20260425T205855
LOCATION:Médiacampus, Nantes
DESCRIPTION:\nont le plaisir de vous inviter jeudi 23 novembre 2017 à partir de 17h30 au MédiaCampus à une conférence débat sur :\n\nInterdisciplinarité, innovation pédagogique, hybridation : comment et où former les leaders de demain ?\n\n \nPROGRAMME\n\n17h30 : accueil pour une visite privée du MédiaCampus\n18h30 : débat sur la thématique "Interdisciplinarité, innovation pédagogique, hybridation : comment et où former les leaders de demain ?"\n19h45 : cocktail dinatoire\n\n \nSPEAKERS \n \n\nSonia BONNET\nDirectrice Anticipation Compétences,\nGroupe Orange\n\n\nChristian DAUTEL\nDirecteur de l’ENSA Nantes\n\n\nCarole LERENDU \nEnseignant-chercheur à Audencia,\npilote de la démarche C4B (Competencies For Business) \n\n\nFrancky TRICHET\nVP Numérique - Université de Nantes\nAdjoint au Maire de Nantes Innovation/Numérique\n\n \nINSCRIPTION
BEGIN:VALARM
ACTION:DISPLAY
TRIGGER:-PT60M
DESCRIPTION:Interdisciplinarité, innovation pédagogique, hybridation : comment et où former les leaders de demain ?
END:VALARM
END:VEVENT
END:VCALENDAR