BEGIN:VCALENDAR
VERSION:2.0
X-WR-TIMEZONE:Europe/Paris
PRODID:-//Audencia//NONSGML v1.0//EN
CALSCALE:GREGORIAN
BEGIN:VEVENT
SUMMARY:CCI France Chine Event: [CSR Working Group] An introduction to risks, challenges and opportunities
DTSTART:20220622T120000
DTEND:20220622T133000
UID:1329
DTSTAMP:20260425T210043
LOCATION:Bureau Veritas Office, Room 1601, Das Tower, 1st Keji South Avenue, Nanshan District, Shenzhen, China
DESCRIPTION:Introduction \n\nCorporate Social Responsibility is a very wide and trendy topic, that becomes more and more mandatory in our business developments between Chinese suppliers and international clients.\nWhat are the main certifications? What are the realities of the needs, and implementation processes? What is suitable for your industry?\n \nCome many to this first CSR Working Group in South China.\n \nLimited seats!\n\nAgenda\n\n6:00 - 6:30 PM : Participants registration\n6:30 - 7:15 PM : Presentation \n7:15 - 7:30 PM : Questions & Answers\n \nLanguage : English\nSpeakers\n  \n\nLinda LIU\nLead Auditor, Certification Dept. | Bureau Veritas\n \nBased in Guangzhou, focused on Social Accountability, Linda has 15-year experience in auditing and training in Corporate Social Responsibility audit (CSR). She has multiple qualifications in CSR auditing such as SA8000, ISO14001, ISO45001, ISO37001, FSC, SMETA auditor, developed a deep understanding of CSR and accumulated rich experiences in promoting CSR performance for organizations in these years.\n \n\nSarina YANG\nMarketing, Certification Dept. | Bureau Veritas\n \nGraduated from Guangdong University of Foreign Studies and specialised in marketing and business, Sarina has joined Bureau Veritas China since her graduation, she is responsible for brand development and new product promotion in Certification Dept.  She collaborates closely with team members as well as NGOs across China. She creates and manages marketing activities, including CSR, Carbon Neutral, cyber security, food, medical, etc., to increase BV’s brand influence in the ITC industry.\nCoordinators\n \n\n\n	\n		\n			 \n			 \n		\n		\n			\n			François Duchesne\n			Manager | French Touch Consulting\n		\n		\n			 \n			 \n		\n		\n			\n			Thomas Royet\n			China Operations Manager | KALOO Juratoys\n		\n	\n\n\n \n\nInformation\n\n\nDate: Wednesday, June 22nd, 2022\nTime: 18:00-19:30 in China / 12:00-13:30 in France\nLanguage: English\nPrices: Free for Audencia Alumni & CCI FRANCE CHINE Member\nVenue: Bureau Veritas Office, Room 1601, Das Tower, 1st Keji South Avenue, Nanshan District, Shenzhen, China / 深圳市南山区科技南一路达实大厦1601室\nRegistration: Scan the QR code or click here\n\n\n \n\nNote: Guests are kindly requested to follow the epidemic prevention and control measures, show : \n\n- green health code with negative Covid-19 test result within 48 hours\n\n- travel code (green arrow) for entry with no * (star)\n\n \n
BEGIN:VALARM
ACTION:DISPLAY
TRIGGER:-PT60M
DESCRIPTION:CCI France Chine Event: [CSR Working Group] An introduction to risks, challenges and opportunities
END:VALARM
END:VEVENT
END:VCALENDAR