BEGIN:VCALENDAR
VERSION:2.0
X-WR-TIMEZONE:Europe/Paris
PRODID:-//Audencia//NONSGML v1.0//EN
CALSCALE:GREGORIAN
BEGIN:VEVENT
SUMMARY:Organic Lifestyle Salon in Shenzhen
DTSTART:20220612T080000
DTEND:20260425T210010
UID:1328
DTSTAMP:20260425T210010
LOCATION:深圳市宝安区宝星智荟城2号楼2层
DESCRIPTION:亲爱的Audencia深圳校友，\n\nAudencia Alumni深圳分会诚邀大家于6月12日（本周日）14:00参与《双碳目标下，有机生活方式沙龙》活动，一起探讨健康可持续的生活方式！\n\n活动时间：6月12日14:00\n活动地点：深圳市宝安区宝星智荟城2号楼2层，也可通过腾讯会议远程参与（ID: 650-369-287）\n交通出行：建议绿色出行\n报名方式：请填写在线报名表（必填），并扫码进入活动群\n报名截止：6月11日晚18:00\n\n本次活动由Audencia 校友会承担费用，将为大家提供有机食品品鉴，​非常期待大家的参与，有机生活从我们做起，活动有惊喜等着大家！\n \n
BEGIN:VALARM
ACTION:DISPLAY
TRIGGER:-PT60M
DESCRIPTION:Organic Lifestyle Salon in Shenzhen
END:VALARM
END:VEVENT
END:VCALENDAR