BEGIN:VCALENDAR
VERSION:2.0
X-WR-TIMEZONE:Europe/Paris
PRODID:-//Audencia//NONSGML v1.0//EN
CALSCALE:GREGORIAN
BEGIN:VEVENT
SUMMARY:CCI France Chine Event: First Aid Training & Jiahui Health Clinic Visit in Shenzhen
DTSTART:20220617T080000
DTEND:20220617T103000
UID:1327
DTSTAMP:20260425T210325
LOCATION:Jiahui Health (Futian) - Shenzhen Jiarong Clinic, Room 0201-0211 & 0219-0222, 2/F, International Chamber of Commerce Tower, 168 Fuhua 3rd Road, Futian District, Shenzhen, China
DESCRIPTION:Introduction\n \n\nCCI FRANCE CHINE is very pleased to organize this First Aid Training with Jiahui Health (Futian) - Shenzhen Jiarong Clinic on Friday, June 17th.\n\nThis event will start with a basic first aid knowledge presentation by Dr. Bill ZHAO. Then, you will have the chance to practice CPR (Cardio-Pulmonary Resuscitation) and Heimlick Maneuver (Abdominal thrusts to treat upper airway choking). After this training, you will be able to carry out actions in a certain level of emergencies and race against time for professional medical assistance.\n\nBy the end, you will also have the chance to visit the Jiahui Health (Futian) - Shenzhen Jiarong Clinic, located in the International Chamber of Commerce Tower in the Futian District. It opens in 2021 and currently provides a range of international services including family medicine, pediatrics, child care, dermatology and medical aesthetics, and dentistry, as well as a range of medical imaging and medical testing services\n\nAgenda & Outline\n \n\n02:00 PM – 02:30 PM: Registration\n\n02:30 PM – 03:00 PM: Theory part of First Aid Training\n\n03:00 PM – 04:00 PM: CPR (Cardio-Pulmonary Resuscitation) and Heimlick Maneuver exercise, participants will be divided into small groups\n\n04:00 PM – 04:20 PM: Clinic Visit\n04:20 PM – 04:30 PM: Group Photo\n\nSpeaker\n \n\n\n	\n		\n			\n			 \n			Dr. Bill ZHAO\n			Family Medicine Physician\n			Jiahui Health\n			 \n			Dr. Bill ZHAO serves as a family medicine physician at Jiahui Health. He obtained his Bachelor's in clinical medical from Guangzhou Medical University in 2006 and his Master's degree in Family Medicine from the Chinese University of Hong Kong in 2009. After that, he had a short period of teaching at Guangzhou Medical University before he joined two international medical centers in Guangzhou and Shenzhen mainly serving expatriate families. He then practiced in an international hospital before he joined Jiahui Health, where he was passionately involved in preventive care, postnatal care, infectious diseases and chronic disease management, etc.\n		\n	\n\n\nInformation\n\nDate: Friday, June 17th, 2022\nTime: 2:00 PM - 04:30 PM\nFee: Free (Limited Seats)\nVenue: Jiahui Health (Futian) - Shenzhen Jiarong Clinic, Room 0201-0211 & 0219-0222, 2/F, International Chamber of Commerce Tower, 168 Fuhua 3rd Road, Futian District, Shenzhen\n            嘉会医疗，深圳嘉荣门诊部，深圳市福田区福华三路168号国际商会中心2楼0201-0211、0219-0222单元\nLanguage: English\nRegistration: Scan the QR code or click here\n\n
BEGIN:VALARM
ACTION:DISPLAY
TRIGGER:-PT60M
DESCRIPTION:CCI France Chine Event: First Aid Training & Jiahui Health Clinic Visit in Shenzhen
END:VALARM
END:VEVENT
END:VCALENDAR