BEGIN:VCALENDAR
VERSION:2.0
X-WR-TIMEZONE:Europe/Paris
PRODID:-//Audencia//NONSGML v1.0//EN
CALSCALE:GREGORIAN
BEGIN:VEVENT
SUMMARY:Afterwork in Hong Kong
DTSTART:20220615T133000
DTEND:20260425T211117
UID:1326
DTSTAMP:20260425T211117
LOCATION:The Social Den HK - The Loop, 33, 9/F Wellington St, Central
DESCRIPTION:Bonjour à tous,\n\nLe prochain événement Alumni est confirmé le mercredi 15 juin à partir de 19h30 au Social Den à Central. Marquez vos agendas!\n\nBonne semaine à tous.\n\nEmma
BEGIN:VALARM
ACTION:DISPLAY
TRIGGER:-PT60M
DESCRIPTION:Afterwork in Hong Kong
END:VALARM
END:VEVENT
END:VCALENDAR