BEGIN:VCALENDAR
VERSION:2.0
X-WR-TIMEZONE:Europe/Paris
PRODID:-//Audencia//NONSGML v1.0//EN
CALSCALE:GREGORIAN
BEGIN:VEVENT
SUMMARY:CCI France Chine Webinar avec M. l'Ambassadeur: Point sur la situation sanitaire, les échéances électorales et les relations bilatérales
DTSTART:20220602T113000
DTEND:20260425T210118
UID:1323
DTSTAMP:20260425T210118
LOCATION:
DESCRIPTION:                         \nChers Membres, \n\nLa CCI FRANCE CHINE et l'Ambassade de France en Chine vous proposent un nouveau point sur l'actualité politique et économique, le Jeudi 2 Juin à 17h30 (Heure de Chine GMT+8).\n\nM. Laurent BILI, Ambassadeur de France en Chine, M. Jean-Marc FENET, Ministre Conseiller pour les Affaires Economiques à l'Ambassade de France en Chine et M. Benoît GUIDEE, Consul Général de France à Shanghai, reviendront sur la situation sanitaire à Shanghai et Pékin ainsi que sur les actions mises en place pour accompagner la communauté dans son ensemble et répondront à vos questions. \n\nPour participer et poser vos questions, merci de remplir le formulaire d'inscription.\n\nCette conférence vous est proposée exclusivement en webinar.\n\nLes informations de connexion seront communiquées par email, après inscription, quelques jours avant l'événement. \n \nDate : Jeudi 2 Juin 2022\n\nHoraire : (heure de Chine GMT+8 ) 17h30 : Début du webinaire\n\nLangue : Français\n\nPrix : Gratuit\n\nParticipation : ouvert à tous\n\nLieu : WEBINAIRE\n\nInscription: scannez the code QR ou cliquez ici\n\n
BEGIN:VALARM
ACTION:DISPLAY
TRIGGER:-PT60M
DESCRIPTION:CCI France Chine Webinar avec M. l'Ambassadeur: Point sur la situation sanitaire, les échéances électorales et les relations bilatérales
END:VALARM
END:VEVENT
END:VCALENDAR