BEGIN:VCALENDAR
VERSION:2.0
X-WR-TIMEZONE:Europe/Paris
PRODID:-//Audencia//NONSGML v1.0//EN
CALSCALE:GREGORIAN
BEGIN:VEVENT
SUMMARY:Club Activités Culturelles - Visite guidée - Le Luxe à la Place Vendôme
DTSTART:20221203T110000
DTEND:20221203T123000
UID:1322
DTSTAMP:20260425T210049
LOCATION:Paris
DESCRIPTION: \n\nLe Club Activités Culturelles organise une visite guidée "Le Luxe à la Place Vendôme" le samedi 3 décembre à 11h. \n\nLa place Vendôme et son quartier visite. Construite à 'emplacement de l'ancien hotel de Vendome, cette place fut construite par Jules Hardouin Mansart. Son dessin exceptionnel a séduit les financiers, les beaux marchés et les masons de luxe. Ils détermineront durablement la fonction de ce quartier. Nous évoquerons Mansart, Crozat, le banquier Law, Chaumet, Van Cleef, Robespierre, le Ritz, Gustave Courbet et bine d'autres encore....\n \n\nPlaces limitées, inscriptions obligatoires !\n\n\n\nQuestions : nushad.merchant@audencia.com\n\n 
BEGIN:VALARM
ACTION:DISPLAY
TRIGGER:-PT60M
DESCRIPTION:Club Activités Culturelles - Visite guidée - Le Luxe à la Place Vendôme
END:VALARM
END:VEVENT
END:VCALENDAR