BEGIN:VCALENDAR
VERSION:2.0
X-WR-TIMEZONE:Europe/Paris
PRODID:-//Audencia//NONSGML v1.0//EN
CALSCALE:GREGORIAN
BEGIN:VEVENT
SUMMARY:Club Activités Culturelles - Visite guidée - Les Oeuvres scandaleuses au musée d'Orsay
DTSTART:20221119T103000
DTEND:20221119T120000
UID:1321
DTSTAMP:20260425T211243
LOCATION:Paris
DESCRIPTION:Le Club Activités Culturelles organise une visite guidée "Les Oeuvres scandaleuses au musée d'Orsay" le samedi 19 novembre à 10h30. \n\nDu "Déjeuner sur l'herbe" de Manet à "La Pie" de Monet, de la "Porte de l'Enfer" de Rodin à son Balzac des œuvres de Corot aux maquettes de Charles Garnier sur l'Opéra de Paris, tous les aspects des arts à Paris qui ont fait scandale au XIXe siècle vous seront présentés. Une conférence qui vous plongera dans l'avant-garde artistique au XIXe siècle.\n\n \n\nPlaces limitées, inscriptions obligatoires !\n\n\n\n\nQuestions : nushad.merchant@audencia.com\n\n 
BEGIN:VALARM
ACTION:DISPLAY
TRIGGER:-PT60M
DESCRIPTION:Club Activités Culturelles - Visite guidée - Les Oeuvres scandaleuses au musée d'Orsay
END:VALARM
END:VEVENT
END:VCALENDAR