BEGIN:VCALENDAR
VERSION:2.0
X-WR-TIMEZONE:Europe/Paris
PRODID:-//Audencia//NONSGML v1.0//EN
CALSCALE:GREGORIAN
BEGIN:VEVENT
SUMMARY:Club Activités Culturelles - Visite guidée - Le Paris de Marcel Proust
DTSTART:20221015T110000
DTEND:20221015T123000
UID:1320
DTSTAMP:20260425T210208
LOCATION:Paris
DESCRIPTION:Le Club Activités Culturelles organise une visite guidée "Le Paris de Marcel Proust" le samedi 15 octobre à 11h. \n\nCette visite de quarter permettra de découvrir les lieux de mémoire que l'on retrouve dans l'oeuvre de Proust. Car toute sa littérature est fate d'adresses\nparisiennes. Elles sont autant de lieux de fréquentation des personages qui ont fait son oeuvre. De la plaine Monceau et ses alentours ou vivaient tous les\npersonages de la Recherche, au boulevard Malesherbes où il habita avec ses parents, la gare saint Lazare qu'il empruntait pour aller à Illiers-Combray, nous\naboutirons au lycée Condorcet où il fit ses études...\n \n\nPlaces limitées, inscriptions obligatoires !\n\n\n\nQuestions : nushad.merchant@audencia.com\n 
BEGIN:VALARM
ACTION:DISPLAY
TRIGGER:-PT60M
DESCRIPTION:Club Activités Culturelles - Visite guidée - Le Paris de Marcel Proust
END:VALARM
END:VEVENT
END:VCALENDAR