BEGIN:VCALENDAR
VERSION:2.0
X-WR-TIMEZONE:Europe/Paris
PRODID:-//Audencia//NONSGML v1.0//EN
CALSCALE:GREGORIAN
BEGIN:VEVENT
SUMMARY:Forum Africa Destination Emplois in Paris
DTSTART:20171124T083000
DTEND:20171125T181500
UID:132
DTSTAMP:20260425T210144
LOCATION:CENTQUATRE 5 rue Curial 75019 Paris
DESCRIPTION:The Forum Africa Destination Emplois is approaching. It will take place on \n \nFriday 24th & Saturday 25th November 2017\nat the CENTQUATRE\n5 rue Curial - 75019 Paris\n\n\nCome and meet\n\n• Companies recruiting in Africa\n• Higher Education Institutions investing in Africa\nBolloré, Eiffage, Saint Gobain, International Staffing Company Sénégal, Wutiko, Exco Afrique, SOCOTA, BASAN, la BICIGUI Guinée, Veolia, AccordHotels, Orange Guinée, AXIAN Group and many other companies are waiting for your CV!\n\n\nProgramme of events\n\nFriday 24th November\nSaturday 25th November\n \n\nHow to register\n\nThe entrance to the Forum Afrique Destination Emplois is free although registration is mandatory. \nVisit the Africa Destination Emploi website to register\nFill out the form, select the companies you would like to meet as a priority, and that's it! (However, your profile will be visible to all companies).\nOnly participants with a previous registration will be able to access to the Forum and participate in the numerous conferences and roundtables.\nTwo days of recruitment, workshops, conferences and roundtables are waiting for you!
BEGIN:VALARM
ACTION:DISPLAY
TRIGGER:-PT60M
DESCRIPTION:Forum Africa Destination Emplois in Paris
END:VALARM
END:VEVENT
END:VCALENDAR