BEGIN:VCALENDAR
VERSION:2.0
X-WR-TIMEZONE:Europe/Paris
PRODID:-//Audencia//NONSGML v1.0//EN
CALSCALE:GREGORIAN
BEGIN:VEVENT
SUMMARY:Club Activités Culturelles - Visite guidée - Le Montparnasse des années folles
DTSTART:20220924T110000
DTEND:20220924T123000
UID:1319
DTSTAMP:20260425T210326
LOCATION:Paris
DESCRIPTION:Le Club Activités Culturelles organise une visite guidée "Le Montparnasse des années folles" le samedi 24 septembre à 11h.\n \n\nLe quartier Montparnasse visite. Ce coin de Paris regorge de cafés littéraires ou les ombres 'Hemingway, Kiki, Foujita, Man Ray, Modigliani et bien d'autres encore hantent leurs terrasses. Ainsi, une découverte des ruelles méconnues et de leurs ateliers d'artistes nous rapprochera d'eux. Nous évoquerons l'Avant-Garde litteraire et artistique des années 30.\n\n \n\n \n\nPlaces limitées, inscriptions obligatoires !\n\n\n\n\nQuestions : nushad.merchant@audencia.com
BEGIN:VALARM
ACTION:DISPLAY
TRIGGER:-PT60M
DESCRIPTION:Club Activités Culturelles - Visite guidée - Le Montparnasse des années folles
END:VALARM
END:VEVENT
END:VCALENDAR