BEGIN:VCALENDAR
VERSION:2.0
X-WR-TIMEZONE:Europe/Paris
PRODID:-//Audencia//NONSGML v1.0//EN
CALSCALE:GREGORIAN
BEGIN:VEVENT
SUMMARY:Alumni Lunch in Tokyo
DTSTART:20220618T043000
DTEND:20260425T210204
UID:1317
DTSTAMP:20260425T210204
LOCATION:Aux Bacchanales Ginza, 6 Chome−3−2 ギャラリーセンタービル 1F, Ginza, Chuo City, 〒104-0061 Tokyo, Japan
DESCRIPTION:\n\nOur alumni ambassador in Tokyo, Baptiste BASSOT, invites you to a terrace lunch on 18 June 2022\n\nDate: Saturday, 18 June 2022\nTime: 11:30 in Tokyo\nLocation: Aux Bacchanales Ginza\nRegistration: please contact Baptiste directly via mail baptiste.bassot@gmail.com
BEGIN:VALARM
ACTION:DISPLAY
TRIGGER:-PT60M
DESCRIPTION:Alumni Lunch in Tokyo
END:VALARM
END:VEVENT
END:VCALENDAR