BEGIN:VCALENDAR
VERSION:2.0
X-WR-TIMEZONE:Europe/Paris
PRODID:-//Audencia//NONSGML v1.0//EN
CALSCALE:GREGORIAN
BEGIN:VEVENT
SUMMARY:Afterwork Berlin
DTSTART:20220621T180000
DTEND:20220621T210000
UID:1316
DTSTAMP:20260425T210118
LOCATION:Café am Neuen See  Lichtensteinallee 2 10787 Berlin Allemagne
DESCRIPTION:Bonjour,\nAprès deux ans de pause on se retrouvera enfin à nouveau à Berlin! \nRv le 21 juin à 18h au Café am Neuen See!\nBis bald, ich freue mich sehr!\n\nUwe Supper\n\nInscriptions auprès de Paul Lemaitre\npaul.lemaitre91@gmail.com\n\n\n\n\n 
BEGIN:VALARM
ACTION:DISPLAY
TRIGGER:-PT60M
DESCRIPTION:Afterwork Berlin
END:VALARM
END:VEVENT
END:VCALENDAR