BEGIN:VCALENDAR
VERSION:2.0
X-WR-TIMEZONE:Europe/Paris
PRODID:-//Audencia//NONSGML v1.0//EN
CALSCALE:GREGORIAN
BEGIN:VEVENT
SUMMARY:#MBA_Community: échanges et networking à Nantes
DTSTART:20220701T183000
DTEND:20220701T200000
UID:1314
DTSTAMP:20260425T210431
LOCATION:Espace Agora Mediacampus 41 Bd de la Prairie au Duc 44200 Nantes
DESCRIPTION:Pour clôturer une semaine riche en rencontres pour la cohorte Executive MBA d'Alger, les participants et alumni des programmes MBA d'Audencia sont invités à se retrouver.\n\nLe vendredi 1er juillet\nDe 18h30 à 20h00\nA l'espace Agora au Mediacampus\n41 Bd de la Prairie au Duc, 44200 Nantes
BEGIN:VALARM
ACTION:DISPLAY
TRIGGER:-PT60M
DESCRIPTION:#MBA_Community: échanges et networking à Nantes
END:VALARM
END:VEVENT
END:VCALENDAR