BEGIN:VCALENDAR
VERSION:2.0
X-WR-TIMEZONE:Europe/Paris
PRODID:-//Audencia//NONSGML v1.0//EN
CALSCALE:GREGORIAN
BEGIN:VEVENT
SUMMARY:Table ronde MBA à Nantes
DTSTART:20220701T171500
DTEND:20220701T183000
UID:1313
DTSTAMP:20260425T210211
LOCATION:Espace Agora Audencia Mediacampus 41 Bd de la Prairie au Duc 44200 Nantes
DESCRIPTION:Traditions et Innovations\n\nPour clôturer la semaine de visite de la promo Executive MBA d'Alger la #MBA_Community est heureuse d'inviter participants actuels et alumni à une conférence table ronde.\n\n\n \n\n\n	Le vendredi 1er juillet\n	De 17h15 à 18h30\n	Espace Agora\n	Audencia Mediacampus, 41 Bd de la Prairie au Duc, 44200 Nantes\n\n\nAnimée par Khalida Anad, Exec-MBA 18, journaliste & consultante stratégie de communication, le thème des enjeux de la transformation et de la transition des villes sera abordé par les speakers invités:\n\n\n	Gurvan Dano, Exec-MBA 19, responsable développement commercial - Haffner Energy\n	Armel Le Blanc, Exec-MBA 15, directeur associé - Keranum\n	Cathy Masson, FT MBA 17, professeur associé & consultante stratégie développement durable\n\n\n\nA l'issue de la table ronde, il y aura un moment d'échange et de networking.\n \n\n
BEGIN:VALARM
ACTION:DISPLAY
TRIGGER:-PT60M
DESCRIPTION:Table ronde MBA à Nantes
END:VALARM
END:VEVENT
END:VCALENDAR