BEGIN:VCALENDAR
VERSION:2.0
X-WR-TIMEZONE:Europe/Paris
PRODID:-//Audencia//NONSGML v1.0//EN
CALSCALE:GREGORIAN
BEGIN:VEVENT
SUMMARY:VISITE du MEDIACAMPUS [Nantes]
DTSTART:20220705T180000
DTEND:20220705T190000
UID:1312
DTSTAMP:20260425T210205
LOCATION:Mediacampus 41, boulevard de la Prairie au Duc 44200 Nantes
DESCRIPTION: \n\nSoirée réservée aux étudiants et diplômés SCIENCESCOM\n- gratuit sur inscription -\n\n\nChers Alumni SciencesCom nantais,\n\nQue diriez vous de découvrir ou re-découvrir le Mediacampus, un écosystème où se rencontrent les acteurs de la formation, les chercheurs et les professionnels de la communication et des médias ?\n\nNous vous invitons à vous retrouver entre Alumni d'Audencia SciencesCom, mardi 5 juillet à 18h.\nL'occasion de revoir -ou de rencontrer pour certaines promos- Sylvie Chancelier, Directrice du programme, qui sera très heureuse d'avoir de vos nouvelles.\n\nProfitez de cette visite pour réseauter, plonger dans vos souvenirs ou découvrir ce lieu unique !\n\n \nAFTERWORK au CORNEILLE\nA 19h30, nous vous proposons de poursuivre les échanges dans un lieu bien connu de certains, Le Corneille, près de la place Graslin.\nVous êtes intéressé(e) ? Plus d'infos et inscriptions ici.\n\n>> Contact : Laetitia Caliez, lcaliez@audencia.com\n\n \n
BEGIN:VALARM
ACTION:DISPLAY
TRIGGER:-PT60M
DESCRIPTION:VISITE du MEDIACAMPUS [Nantes]
END:VALARM
END:VEVENT
END:VCALENDAR