BEGIN:VCALENDAR
VERSION:2.0
X-WR-TIMEZONE:Europe/Paris
PRODID:-//Audencia//NONSGML v1.0//EN
CALSCALE:GREGORIAN
BEGIN:VEVENT
SUMMARY:Afterwork SCIENCESCOM avec Sylvie Chancelier, Directrice du programme [Nantes]
DTSTART:20220705T193000
DTEND:20220705T213000
UID:1311
DTSTAMP:20260425T210437
LOCATION:Le Corneille 24, rue Scribe, 44000 Nantes
DESCRIPTION: \n\nSoirée réservée aux étudiants et diplômés SCIENCESCOM\n- gratuit sur inscription -\n\n\nChers Alumni SciencesCom nantais,\n\nNous vous proposons de vous retrouver entre Alumni d'Audencia SciencesCom au bar Le Corneille, près de la place Graslin, mardi 5 juillet à 19h30.\n\nL'occasion de revoir -ou de rencontrer pour certaines promos- Sylvie Chancelier, Directrice du programme, qui sera très heureuse d'avoir de vos nouvelles.\n\nProfitez de cette soirée pour réseauter, partager vos souvenirs et boire un verre ensemble !\n\n \nVISITE du MEDIACAMPUS\nA 18h, nous vous proposons également une visite du Mediacampus.\nVous êtes intéressé(e) ? Plus d'infos et inscriptions ici.\n\n>> Contact : Laetitia Caliez, lcaliez@audencia.com\n\n \n
BEGIN:VALARM
ACTION:DISPLAY
TRIGGER:-PT60M
DESCRIPTION:Afterwork SCIENCESCOM avec Sylvie Chancelier, Directrice du programme [Nantes]
END:VALARM
END:VEVENT
END:VCALENDAR