BEGIN:VCALENDAR
VERSION:2.0
X-WR-TIMEZONE:Europe/Paris
PRODID:-//Audencia//NONSGML v1.0//EN
CALSCALE:GREGORIAN
BEGIN:VEVENT
SUMMARY:Club Culture & Management - Le triomphe des jeux vidéos
DTSTART:20220615T190000
DTEND:20220615T210000
UID:1310
DTSTAMP:20260425T210211
LOCATION:Beaux Arts & Cie 9 Bd de la Madeleine 75001 Paris
DESCRIPTION:En 2020, le marché mondial du jeu vidéo a pesé plus lourd que ceux du cinéma et de la musique réunis. La France soutient avec succès ses champions nationaux (Ubisoft notamment) mais a aussi su développer un tissu actif  de producteurs indépendants.\nComme pour les autres industries culturelles, le jeu vidéo est confronté à l'évolution des pratiques avec l'essor des plateformes de streaming dédiées.\n\nQuelles sont les clés de réussite de cette industrie complexe, créative et innovante ? Quelles sont les perspectives pour les acteurs historiques et les nouveaux entrants ?\n\nIntervenant\nOskar Guilbert, CEO de DONTNOD Entertainment\n\nModérateur\nJuliette FELIX\nHERALD Avocats/Avocate Associée, Responsable Audiovisuel / Cinéma c&m\n \nRéservez votre place\n\nMODALITÉS D'ACCUEIL EN PRÉSENTIEL :\n- les débats commencent à 19h, l'accueil se fait à partir de 18h30\n- si vous bénéficiez d'un tarif spécial (tarif chômeur ou tarif étudiant à 15€), vous devrez nous présenter un justificatif de moins de 3 mois\n\nAu plaisir de vous retrouver,\nL'équipe du Club Culture & Management\n \n\n\nCANDIDATEZ AU PRIX INNOVATION C&M AVANT LE 22 MAI\n\nIl vous reste queques jours pour candidater. Ne manquez pas cette opportunité unique de présenter votre startup culturelle devant un jury d'experts du monde de la Culture et rencontrer des personnalités du secteur culturel et de l'innovation. Le Prix Innovation sera remis lors du forum Entreprendre dans la Culture organisé par le Ministère de la Culture.
BEGIN:VALARM
ACTION:DISPLAY
TRIGGER:-PT60M
DESCRIPTION:Club Culture & Management - Le triomphe des jeux vidéos
END:VALARM
END:VEVENT
END:VCALENDAR