BEGIN:VCALENDAR
VERSION:2.0
X-WR-TIMEZONE:Europe/Paris
PRODID:-//Audencia//NONSGML v1.0//EN
CALSCALE:GREGORIAN
BEGIN:VEVENT
SUMMARY:Afterwork de fin d'année
DTSTART:20171214T193000
DTEND:20171214T235900
UID:131
DTSTAMP:20260425T205900
LOCATION:Cercle Conan-Doyle 119 Rue du Chemin Vert, 75011 Paris
DESCRIPTION:Afterwork Paris - \nAvant la fin d'année et la course aux cadeaux de Noël, la communauté Audencia SciencesCom vous invite à partager un moment convivial et de partage avec d'autres étudiants et diplômés. \n\nAutour d'un verre, vous pourrez échanger et profiter de la présence de Laurence Crespel, Directrice Audencia SciencesCom pour la questionner sur la dynamique Mediacampus. \n\nNous vous proposons de tous de vous retrouver le jeudi 14 décembre 2017 à partir de 19h30 au Cercle Conan Doyle. \nCercle Conan-Doyle\n119 Rue du Chemin Vert,\n75011 Paris\nMétro : Accessible par les lignes de métro 2, 3 \n\nEn espérant vous y voir nombreux !
BEGIN:VALARM
ACTION:DISPLAY
TRIGGER:-PT60M
DESCRIPTION:Afterwork de fin d'année
END:VALARM
END:VEVENT
END:VCALENDAR