BEGIN:VCALENDAR
VERSION:2.0
X-WR-TIMEZONE:Europe/Paris
PRODID:-//Audencia//NONSGML v1.0//EN
CALSCALE:GREGORIAN
BEGIN:VEVENT
SUMMARY:Afterwork SCIENCESCOM avec Sylvie Chancelier, Directrice du programme [Paris]
DTSTART:20220614T193000
DTEND:20220614T213000
UID:1309
DTSTAMP:20260425T210610
LOCATION:La Boissonnière Charonne 52, rue Léon Frot 75011 Paris
DESCRIPTION: \n\nSoirée réservée aux étudiants et diplômés SCIENCESCOM\n- gratuit sur inscription -\n\n\nChers Alumni SciencesCom parisiens,\n\nNous vous proposons de vous retrouver entre Alumni d'Audencia SciencesCom dans un bar parisien du 11ème, La Boissonnière Charonne, ce mardi 14 juin.\n\nL'occasion de revoir -ou de rencontrer pour certaines promos- Sylvie Chancelier, Directrice du programme, qui sera très heureuse d'avoir de vos nouvelles.\n\nVous résidez à Paris ou êtes simplement de passage ?\nProfitez de cette soirée pour réseauter, partager vos souvenirs et boire un verre ensemble !\n\n>> Contact : Laetitia Caliez, lcaliez@audencia.com\n\n \n
BEGIN:VALARM
ACTION:DISPLAY
TRIGGER:-PT60M
DESCRIPTION:Afterwork SCIENCESCOM avec Sylvie Chancelier, Directrice du programme [Paris]
END:VALARM
END:VEVENT
END:VCALENDAR