BEGIN:VCALENDAR
VERSION:2.0
X-WR-TIMEZONE:Europe/Paris
PRODID:-//Audencia//NONSGML v1.0//EN
CALSCALE:GREGORIAN
BEGIN:VEVENT
SUMMARY:Petit-déjeuner thématique LYON
DTSTART:20220623T083000
DTEND:20220623T093000
UID:1308
DTSTAMP:20260425T210449
LOCATION:Café Rive Gauche 31 Cr Franklin Roosevelt 69006 Lyon
DESCRIPTION:Chers Alumni lyonnais,\n\nJ'organise un petit déjeuner avec le chapter Lyon, au café Rive Gauche le jeudi 23 juin de 8h30 à 9h30 - PAF 10€.\n \nThème : \nLes liaisons vertueuses en milieu professionnel : du réseau aux liens !\n \n\nSur cette idée de « liens » plutôt que de « réseaux professionnels », co-fondatrice de la start-up www.reliez-vous.fr, je propose un témoignage de mon expérience. En quoi la création de liens est précieuse en milieu professionnel ? Comment faire vivre et développer son maillage ? Profitez de cette occasion pour agrandir le vôtre ! Ce témoignage sera suivi d'échanges sur votre perception des liens et la réseau-nance pour vous !\n\nRelions-nous !\nJulie Daurès (GE 01)\n\nRSVP : julie.gueny@reliez-vous.fr\n \n
BEGIN:VALARM
ACTION:DISPLAY
TRIGGER:-PT60M
DESCRIPTION:Petit-déjeuner thématique LYON
END:VALARM
END:VEVENT
END:VCALENDAR