BEGIN:VCALENDAR
VERSION:2.0
X-WR-TIMEZONE:Europe/Paris
PRODID:-//Audencia//NONSGML v1.0//EN
CALSCALE:GREGORIAN
BEGIN:VEVENT
SUMMARY:Conférence Inspirante Audencia Alumni avec Lionel Naccache
DTSTART:20220630T193000
DTEND:20220630T233000
UID:1307
DTSTAMP:20260425T210205
LOCATION:Les Salons Hoche 9 Av. Hoche 75008 Paris
DESCRIPTION:\nConférence Inspirante Audencia Alumni avec Lionel Naccache (30 juin à Paris)\n\n\n \n\nNotre cerveau est le même à la naissance que celui de nos ancêtres il y a 10.000 ans, pourtant nous l’utilisons pour de nombreuses activités cognitives, culturelles, sociales ou technologiques beaucoup plus récentes, telle que lire un roman, jouer du violon, conduire une voiture ou danser le rock’n roll. Autrement dit, notre « vieux » cerveau est capable de produire du « neuf », et surtout de s’y adapter. Quelles sont les explications de ce paradoxe apparent ? Les neurosciences permettent aujourd’hui de mieux comprendre l’origine de cette plasticité cérébrale, du recyclage neuronal et des mécanismes d’adaptation qui sont au cœur de ce qu’il est possible d’appeler l’« innovation cérébrale » et de la créativité.\n\nAudencia Alumni vous invite à assister à une soirée-conférence le jeudi 30 juin à 19h30 aux Salons Hoche (Paris 8e) sur le thème\n\n\n« Un cerveau si inspirant ! »\n \n\nAvec la participation exceptionnelle de\n\n Lionel Naccache, neurologue, normalien, professeur de de physiologie à Sorbonne Université et essayiste.\n\n \n\n\nSuivi d'une table-ronde avec des diplômés :\n \n  Pauline Ferrières (GE 2020), Co-founder & Business developer, DEYI 德逸\n\n Céline Tran (MS MDC 2018), Qualitative research manager & User experience designer, L’Oréal\n \n Romuald Graveleau (SCOM 2003) : Directeur de programmes, Studio 89 Productions\n \n  Emmanuel Lacroix (GE 2009), Professeur des écoles - Créateur d’Effet Eurêka\n \nanimée par :\n\n  Sandra Khawand, étudiante MBA 2022\n \n\nInscription obligatoire\n\n \nAu programme :\n\n\n	19h30-20h00 : Accueil (vestiaire, badges) avec une boisson\n	20h00-21h30 : Prise de parole par la direction d’Audencia & Conférence\n	21h15-23h30 : Cocktail networking\n\n\n \nRejoignez-nous le 30 juin prochain pour vivre une soirée exceptionnelle ! Découvrez le cerveau comme on ne vous l’a jamais raconté, une expérience inédite pour se retrouver, réseauter et fêter le début de l’été autour d’un cocktail.\n \nAu plaisir de vous y retrouver nombreux,\nL’équipe Audencia Alumni\n\n \n\nConnectez-vous à votre compte Together pour vous inscrire\nQuestions ? : nushad.merchant@audencia.com\n\n\nA propos :\n\nLionel Naccache dirige un service hospitalier à la Pitié-Salpêtrière (APHP) ainsi que l’équipe de recherche PICNIC Lab à l’ICM. Ses travaux de recherche fondamentale et appliquée sont consacrés aux propriétés psychologiques et cérébrales de la conscience chez l’homme sain et chez l’homme malade. Il est l’auteur de nombreuses découvertes fondamentales et cliniques et co-auteur de la principale théorie neuroscientifique de la conscience avec Stanislas Dehaene et Jean-Pierre Changeux (théorie de l’espace de travail global conscient). Auteur de plus de 150 publications scientifiques et médicales internationales, et il est également l’auteur de plusieurs essais (dont Le Nouvel inconscient (2006) ; Parlez-vous cerveau ? (2018) ; Le Cinéma intérieur (2020).\n\n\n 
BEGIN:VALARM
ACTION:DISPLAY
TRIGGER:-PT60M
DESCRIPTION:Conférence Inspirante Audencia Alumni avec Lionel Naccache
END:VALARM
END:VEVENT
END:VCALENDAR