BEGIN:VCALENDAR
VERSION:2.0
X-WR-TIMEZONE:Europe/Paris
PRODID:-//Audencia//NONSGML v1.0//EN
CALSCALE:GREGORIAN
BEGIN:VEVENT
SUMMARY:CCI France Chine Webinar: [Sourcing Working Group] How will the supply chain resist to the recent geopolitical and economical changes?
DTSTART:20220601T100000
DTEND:20220601T110000
UID:1306
DTSTAMP:20260425T205715
LOCATION:
DESCRIPTION:Introduction\n\nCCI FRANCE CHINE is delighted to invite you to its next Sourcing Working Group on “How will the supply chain resist to the recent geopolitical and economical changes?”\n\nOn this occasion, we will welcome Loïc Benattar, Asia-Pacific Vice-Président of Bansard International Group, who will share his experience.\n\nTo participate and ask your questions, please fill in the registration form.\n \nAgenda\n- Update on the air and ocean freight market in China and the world\n- Review of the impact of the covid crisis and the war in Ukraine on the industry\n- The latest market conditions and what to expect in the coming months\nSpeaker\n\n\n \nLoïc BENATTAR\n\nAsia Pacific Vice-President @ Bansard International Group\n\nCoordinators\n\n\n\nBoom-Ghou LAM\n\nPDG @ Aspro Development Ltd\n\n\n \nEric LAFFINEUR\n\nGeneral Manager @ ASACO\n\nInformation\nDate: Wednesday, June 1st\nTime: 4:00pm - 5:00pm in China\nEvent Format: Online Meeting\nLanguage: English\n\nFees: Free for Audencia Alumni & CCI FRANCE CHINE Members\nRegistration: Scan the following QR code or click here\n\n
BEGIN:VALARM
ACTION:DISPLAY
TRIGGER:-PT60M
DESCRIPTION:CCI France Chine Webinar: [Sourcing Working Group] How will the supply chain resist to the recent geopolitical and economical changes?
END:VALARM
END:VEVENT
END:VCALENDAR