BEGIN:VCALENDAR
VERSION:2.0
X-WR-TIMEZONE:Europe/Paris
PRODID:-//Audencia//NONSGML v1.0//EN
CALSCALE:GREGORIAN
BEGIN:VEVENT
SUMMARY:Soirée des Audacieux Nantes - Inscription sur invitation
DTSTART:20220614T190000
DTEND:20220614T223000
UID:1304
DTSTAMP:20260425T210114
LOCATION:Château de la Rairie 44860 Pont Saint-Martin
DESCRIPTION:Pour la première fois, la Fondation Audencia convie ses donateurs et futurs donateurs à partager un moment convivial d’échange et de partage autour d’un cocktail dinatoire. \n\nA l’occasion de cette soirée animée par Yann Bouchery, diplômé Audencia 1994 et ancien journaliste de l’information à RTL, découvrez deux initiatives ambitieuses portées par la Fondation Audencia au travers du témoignage de bénéficiaires :\n\n\n	Le Parcours Sirius : un dispositif d’innovation sociale unique en France\n	Le dispositif d’accompagnement à l’entrepreneuriat des étudiants\n\n \n\nCette soirée placée sous le signe de la convivialité, de la solidarité, et de la philanthropie avec la présence de Laurent Métral, Président d'Audencia et Françoise Marcus, Déléguée générale de la Fondation sera l’occasion de prendre part à la réussite de ces projets à fort impact social.\n\nPour toutes questions nous joindre à l’adresse mail : fondation@audencia.com\n\n\n\nLa Fondation Audencia :\nLa Fondation Audencia créée en 2009 sous l’égide de la Fondation de France accompagne l’Ecole dans son développement en France et à l’international. Elle a d’abord sollicité les entreprises pour soutenir majoritairement la création de chaires d’enseignement et de recherche. Elle s’est ensuite adressée aux particuliers à partir de 2016. Depuis la Fondation compte désormais près de 2500 donateurs à titre privé, un nombre en constante augmentation avec la culture du don dans les Grandes Ecoles qui s’est fortement développée. L’engagement croissant des entreprises et des particuliers permet à la Fondation Audencia de soutenir des projets dans les domaines de :\n\n\n	La diversité et l’inclusion \n	L’entrepreneuriat\n	L’innovation pédagogique\n	La recherche \n
BEGIN:VALARM
ACTION:DISPLAY
TRIGGER:-PT60M
DESCRIPTION:Soirée des Audacieux Nantes - Inscription sur invitation
END:VALARM
END:VEVENT
END:VCALENDAR