BEGIN:VCALENDAR
VERSION:2.0
X-WR-TIMEZONE:Europe/Paris
PRODID:-//Audencia//NONSGML v1.0//EN
CALSCALE:GREGORIAN
BEGIN:VEVENT
SUMMARY:CCI France Chine Event: Afterwork Networking in Guangzhou
DTSTART:20220518T123000
DTEND:20220518T160000
UID:1303
DTSTAMP:20260425T210117
LOCATION:Le Hachoir, Shop 60, 62, Canton Place, No.9 Qingfeng street, Zhujiang New Town, Tianhe District, Guangzhou, China
DESCRIPTION:CCI FRANCE CHINE is pleased to invite our esteemed members to a joyful gathering in a convivial setting - our After Work Networking buffet at\n\nLe Hachoir in Guangzhou on May 18th.\n\n \n\nThis will be an event presenting an opportunity for you to gain insight into the activities and progress of your fellow business partners.\n\n \n\nWhat’s planned for the Afterwork Networking night?\n\n \n\nThe lovely evening begins with a Welcome Glass, followed by a delightful Buffet, and includes 2h free-flow wine service.\n\n \nOn this occasion, with CCI FRANCE CHINE board members and representatives attending, we look forward to receiving your feedback and suggestions regarding our event organisation. So we can know how to better assist you in future projects.\n\nOur tasty food and excellent drinks are ready, so welcome, and please enjoy this fabulous moment !\n\n \nPlease book your seats before May 16th! \n \n\nInformation\nDate: Wednesday, May 18th\nTime: 18:30 - 22:00 in China\nVenue:  Le Hachoir, Shop 60, 62, Canton Place, No.9 Qingfeng street, Zhujiang New Town, Tianhe District, Guangzhou, China / 中国广州市珠江新城清风街9号广粤天地60、62号商铺\nFees: FREE for CCI France Chine members & Audencia Alumni\nRegistration: Scan the following QR code or click here\n\n
BEGIN:VALARM
ACTION:DISPLAY
TRIGGER:-PT60M
DESCRIPTION:CCI France Chine Event: Afterwork Networking in Guangzhou
END:VALARM
END:VEVENT
END:VCALENDAR