BEGIN:VCALENDAR
VERSION:2.0
X-WR-TIMEZONE:Europe/Paris
PRODID:-//Audencia//NONSGML v1.0//EN
CALSCALE:GREGORIAN
BEGIN:VEVENT
SUMMARY:CCI France Chine Webinar avec M. l'Ambassadeur: Point sur la situation sanitaire et les relations bilatérales
DTSTART:20220512T113000
DTEND:20220512T123000
UID:1302
DTSTAMP:20260425T205954
LOCATION:
DESCRIPTION:                        \n\n\nLa CCI FRANCE CHINE et l'Ambassade de France en Chine vous proposent un nouveau point sur l'actualité politique et économique, le Jeudi 12 Mai à 17h30 (Heure de Chine GMT+8).\n\n \n\nM. Laurent BILI, Ambassadeur de France en Chine, M. Jean-Marc FENET, Ministre Conseiller pour les Affaires Economiques à l'Ambassade de France en Chine et M. Benoît GUIDEE, Consul Général de France à Shanghai, reviendront sur la situation sanitaire à Shanghai ainsi que sur les actions mises en place pour accompagner la communauté dans son ensemble et répondront à vos questions.\n\n \n\nDate : Jeudi 12 Mai 2022\n\nHoraire : (heure de Chine GMT+8 ) 17h30 : Début du webinaire\n\nLangue : Français\n\nPrix : Gratuit\n\nParticipation : ouvert à tous.\n\nLieu : WEBINAIRE\n\nInscription: scannez the code QR ou cliquez ici\n\n
BEGIN:VALARM
ACTION:DISPLAY
TRIGGER:-PT60M
DESCRIPTION:CCI France Chine Webinar avec M. l'Ambassadeur: Point sur la situation sanitaire et les relations bilatérales
END:VALARM
END:VEVENT
END:VCALENDAR